BEGIN:VCALENDAR
VERSION:2.0
PRODID:-//Gold Hill Hotel &amp; Saloon - ECPv6.15.20//NONSGML v1.0//EN
CALSCALE:GREGORIAN
METHOD:PUBLISH
X-ORIGINAL-URL:https://goldhillhotel.net
X-WR-CALDESC:Events for Gold Hill Hotel &amp; Saloon
REFRESH-INTERVAL;VALUE=DURATION:PT1H
X-Robots-Tag:noindex
X-PUBLISHED-TTL:PT1H
BEGIN:VTIMEZONE
TZID:UTC
BEGIN:STANDARD
TZOFFSETFROM:+0000
TZOFFSETTO:+0000
TZNAME:UTC
DTSTART:20240101T000000
END:STANDARD
END:VTIMEZONE
BEGIN:VEVENT
DTSTART;TZID=UTC:20250508T170000
DTEND;TZID=UTC:20250508T213000
DTSTAMP:20260423T025002
CREATED:20250320T190752Z
LAST-MODIFIED:20250320T190752Z
UID:10001374-1746723600-1746739800@goldhillhotel.net
SUMMARY:Haunted Ghost Tour at the Gold Hill Hotel tonight!
DESCRIPTION:Welcome to the 2025 Ghost Tour series at the Gold Hill Hotel!  \nGet ready for an unforgettable experience at the Gold Hill Hotel\, famously featured on Ghost Adventures and celebrated as Nevada’s 8th most haunted destination! For the fifth consecutive year\, we’re thrilled to offer our spine-tingling Historical Ghost Tours\, where your adventure not only promises thrills but also supports local charities dedicated to historic preservation right here on the Comstock. \nKick off your night with a delectable gourmet dinner at the Crown Point Restaurant\, renowned as one of the best dining spots on the Comstock. After satisfying your taste buds\, prepare for an extraordinary journey back in time as the Northern Nevada Ghost Hunters (NNGH)\, a volunteer organization\, take you on a captivating exploration of the hotel’s haunted history and the eerie stories of the surrounding Slippery Gulch. \nEquipped with ghost-hunting tools and techniques\, you’ll have the chance to reach out to the spirits that linger in the hotel—or maybe even connect with a few who have decided to tag along! Don’t miss the opportunity to venture into some of the hotel’s actual haunted rooms\, when available! \nAnd before or after your thrilling time with NNGH\, why not unwind in the historic 150-year-old bar\, once a favorite of Mark Twain? This is more than just a night out; it’s an adventure you won’t want to miss! Join us for an evening filled with history\, mystery\, and a dash of the supernatural. Reserve your spot now by clicking the link below! \nDinner and Tour – only $60.00 per person\, gratuity and fees not included. \nTour 1 – Dinner is at 5:30 and the tour starts at 7:00 p.m.\nTour 2 – Dinner is at 7:00 and the tour starts at 8:30 p.m.\n \nDinner is a set menu of many of our favorite entrees we offer at the hotel! (options may vary) \nTour only – $35 per person. \nTour starts at 7:00 p.m. or 8:30 p.m. depending on which one you sign up for! \n** Click the button bellow and fill in the form to make reservations for this exciting evening~!    \nGet Tickets
URL:https://goldhillhotel.net/event/haunted-ghost-tour-at-the-gold-hill-hotel-tonight-13-2/2025-05-08/
CATEGORIES:Ghost Tour
END:VEVENT
BEGIN:VEVENT
DTSTART;TZID=UTC:20250515T163000
DTEND;TZID=UTC:20250515T203000
DTSTAMP:20260423T025002
CREATED:20200212T065115Z
LAST-MODIFIED:20250429T001649Z
UID:10000935-1747326600-1747341000@goldhillhotel.net
SUMMARY:Lecture series continues!  Rae and Mark Davis - Surgeon Jonathan Letterman\, the "Father of Modern Military Medicine"
DESCRIPTION:Thursday\, May 15th with Surgeon Jonathan Letterman\, the “Father of Modern Military Medicine” \nWe are pleased to continue the 2025 Lecture Series! \nDinner starts at 4:30 p.m. and lecture starts at 7:00 p.m. \nDescription: Join Mark and Rae Davis for a discussion about the fascinating life and legacy of Civil War Surgeon Jonathan Letterman that earned him the title\, “The Father of Modern Military Medicine\,” and how his achievements touch our civilian lives each and every day.\nAttendees will get to view both reproduction and original Civil War medical instruments\, medicines\, weaponry\, and more! In addition\, we will discuss a little bit about our upcoming documentary on Surgeon Letterman. We promise to deliver a highly interesting talk that you won’t want to miss! \nBio:  Rae Davis currently resides in Murphys\, Ca\, with her husband\, Mark She grew up in Calaveras County where she raised her two children. She is also grandmother of one. \nIn 1990 Rae joined the National Civil War Association\, a living history group based in Northern California. At the time\, the NCWA was the largest combined Civil War reenactment group in the world. For 8 years she taught the public about the medical practices of the Union Army Medical Service and headed up the speaker’s bureau for the organization. After leaving the NCWA in 1998\, Rae continued to lecture at various venues for a few more years.  She recently retired from the floral industry after 35 years of designing to continue work in the film industry as a producer. Although she doesn’t get to teach others about the medical practices of the Civil War as much as she’d like to\, it is never far from her heart and looks forward to continuing her studies of the subject. \nLecture starts at 7:00 p.m. and costs $10 per person. \nCome early and enjoy dinner before the lecture! We Serve dinner before the lecture at 4:30\, 5\, & 5:30 p.m. \nPlease fill out this reservation form to sign up for this interesting lecture:\n \n\n\n\n\n\n\n\nName:\n\n\n\nEmail Address:\n\n\n\nTelephone number in case we need to contact you about your reservation:\n\n\n\nDinner and Lecture or Lecture only?\n Lecture Only\n Lecture and Dinner\n\n\nHow many in your party?\n\n\n\nIf you are having dinner with us\, what time would you like to dine?\n 4:30 p.m.\n 5:00 p.m.\n 5:30 p.m.\n Lecture Only
URL:https://goldhillhotel.net/event/rae-and-mark-davis-surgeon-jonathan-letterman/
CATEGORIES:Thursday Night Lecture
END:VEVENT
BEGIN:VEVENT
DTSTART;TZID=UTC:20250522T170000
DTEND;TZID=UTC:20250522T213000
DTSTAMP:20260423T025002
CREATED:20250320T190752Z
LAST-MODIFIED:20250320T190752Z
UID:10001375-1747933200-1747949400@goldhillhotel.net
SUMMARY:Haunted Ghost Tour at the Gold Hill Hotel tonight!
DESCRIPTION:Welcome to the 2025 Ghost Tour series at the Gold Hill Hotel!  \nGet ready for an unforgettable experience at the Gold Hill Hotel\, famously featured on Ghost Adventures and celebrated as Nevada’s 8th most haunted destination! For the fifth consecutive year\, we’re thrilled to offer our spine-tingling Historical Ghost Tours\, where your adventure not only promises thrills but also supports local charities dedicated to historic preservation right here on the Comstock. \nKick off your night with a delectable gourmet dinner at the Crown Point Restaurant\, renowned as one of the best dining spots on the Comstock. After satisfying your taste buds\, prepare for an extraordinary journey back in time as the Northern Nevada Ghost Hunters (NNGH)\, a volunteer organization\, take you on a captivating exploration of the hotel’s haunted history and the eerie stories of the surrounding Slippery Gulch. \nEquipped with ghost-hunting tools and techniques\, you’ll have the chance to reach out to the spirits that linger in the hotel—or maybe even connect with a few who have decided to tag along! Don’t miss the opportunity to venture into some of the hotel’s actual haunted rooms\, when available! \nAnd before or after your thrilling time with NNGH\, why not unwind in the historic 150-year-old bar\, once a favorite of Mark Twain? This is more than just a night out; it’s an adventure you won’t want to miss! Join us for an evening filled with history\, mystery\, and a dash of the supernatural. Reserve your spot now by clicking the link below! \nDinner and Tour – only $60.00 per person\, gratuity and fees not included. \nTour 1 – Dinner is at 5:30 and the tour starts at 7:00 p.m.\nTour 2 – Dinner is at 7:00 and the tour starts at 8:30 p.m.\n \nDinner is a set menu of many of our favorite entrees we offer at the hotel! (options may vary) \nTour only – $35 per person. \nTour starts at 7:00 p.m. or 8:30 p.m. depending on which one you sign up for! \n** Click the button bellow and fill in the form to make reservations for this exciting evening~!    \nGet Tickets
URL:https://goldhillhotel.net/event/haunted-ghost-tour-at-the-gold-hill-hotel-tonight-13-2/2025-05-22/
CATEGORIES:Ghost Tour
END:VEVENT
BEGIN:VEVENT
DTSTART;TZID=UTC:20250529T170000
DTEND;TZID=UTC:20250529T213000
DTSTAMP:20260423T025002
CREATED:20250320T190752Z
LAST-MODIFIED:20250320T190752Z
UID:10001376-1748538000-1748554200@goldhillhotel.net
SUMMARY:Haunted Ghost Tour at the Gold Hill Hotel tonight!
DESCRIPTION:Welcome to the 2025 Ghost Tour series at the Gold Hill Hotel!  \nGet ready for an unforgettable experience at the Gold Hill Hotel\, famously featured on Ghost Adventures and celebrated as Nevada’s 8th most haunted destination! For the fifth consecutive year\, we’re thrilled to offer our spine-tingling Historical Ghost Tours\, where your adventure not only promises thrills but also supports local charities dedicated to historic preservation right here on the Comstock. \nKick off your night with a delectable gourmet dinner at the Crown Point Restaurant\, renowned as one of the best dining spots on the Comstock. After satisfying your taste buds\, prepare for an extraordinary journey back in time as the Northern Nevada Ghost Hunters (NNGH)\, a volunteer organization\, take you on a captivating exploration of the hotel’s haunted history and the eerie stories of the surrounding Slippery Gulch. \nEquipped with ghost-hunting tools and techniques\, you’ll have the chance to reach out to the spirits that linger in the hotel—or maybe even connect with a few who have decided to tag along! Don’t miss the opportunity to venture into some of the hotel’s actual haunted rooms\, when available! \nAnd before or after your thrilling time with NNGH\, why not unwind in the historic 150-year-old bar\, once a favorite of Mark Twain? This is more than just a night out; it’s an adventure you won’t want to miss! Join us for an evening filled with history\, mystery\, and a dash of the supernatural. Reserve your spot now by clicking the link below! \nDinner and Tour – only $60.00 per person\, gratuity and fees not included. \nTour 1 – Dinner is at 5:30 and the tour starts at 7:00 p.m.\nTour 2 – Dinner is at 7:00 and the tour starts at 8:30 p.m.\n \nDinner is a set menu of many of our favorite entrees we offer at the hotel! (options may vary) \nTour only – $35 per person. \nTour starts at 7:00 p.m. or 8:30 p.m. depending on which one you sign up for! \n** Click the button bellow and fill in the form to make reservations for this exciting evening~!    \nGet Tickets
URL:https://goldhillhotel.net/event/haunted-ghost-tour-at-the-gold-hill-hotel-tonight-13-2/2025-05-29/
CATEGORIES:Ghost Tour
END:VEVENT
END:VCALENDAR