BEGIN:VCALENDAR
VERSION:2.0
PRODID:-//Gold Hill Hotel &amp; Saloon - ECPv6.15.20//NONSGML v1.0//EN
CALSCALE:GREGORIAN
METHOD:PUBLISH
X-WR-CALNAME:Gold Hill Hotel &amp; Saloon
X-ORIGINAL-URL:https://goldhillhotel.net
X-WR-CALDESC:Events for Gold Hill Hotel &amp; Saloon
REFRESH-INTERVAL;VALUE=DURATION:PT1H
X-Robots-Tag:noindex
X-PUBLISHED-TTL:PT1H
BEGIN:VTIMEZONE
TZID:UTC
BEGIN:STANDARD
TZOFFSETFROM:+0000
TZOFFSETTO:+0000
TZNAME:UTC
DTSTART:20240101T000000
END:STANDARD
END:VTIMEZONE
BEGIN:VEVENT
DTSTART;TZID=UTC:20250410T170000
DTEND;TZID=UTC:20250410T213000
DTSTAMP:20260425T064025
CREATED:20250320T190752Z
LAST-MODIFIED:20250320T190752Z
UID:10001372-1744304400-1744320600@goldhillhotel.net
SUMMARY:Haunted Ghost Tour at the Gold Hill Hotel tonight!
DESCRIPTION:Welcome to the 2025 Ghost Tour series at the Gold Hill Hotel!  \nGet ready for an unforgettable experience at the Gold Hill Hotel\, famously featured on Ghost Adventures and celebrated as Nevada’s 8th most haunted destination! For the fifth consecutive year\, we’re thrilled to offer our spine-tingling Historical Ghost Tours\, where your adventure not only promises thrills but also supports local charities dedicated to historic preservation right here on the Comstock. \nKick off your night with a delectable gourmet dinner at the Crown Point Restaurant\, renowned as one of the best dining spots on the Comstock. After satisfying your taste buds\, prepare for an extraordinary journey back in time as the Northern Nevada Ghost Hunters (NNGH)\, a volunteer organization\, take you on a captivating exploration of the hotel’s haunted history and the eerie stories of the surrounding Slippery Gulch. \nEquipped with ghost-hunting tools and techniques\, you’ll have the chance to reach out to the spirits that linger in the hotel—or maybe even connect with a few who have decided to tag along! Don’t miss the opportunity to venture into some of the hotel’s actual haunted rooms\, when available! \nAnd before or after your thrilling time with NNGH\, why not unwind in the historic 150-year-old bar\, once a favorite of Mark Twain? This is more than just a night out; it’s an adventure you won’t want to miss! Join us for an evening filled with history\, mystery\, and a dash of the supernatural. Reserve your spot now by clicking the link below! \nDinner and Tour – only $60.00 per person\, gratuity and fees not included. \nTour 1 – Dinner is at 5:30 and the tour starts at 7:00 p.m.\nTour 2 – Dinner is at 7:00 and the tour starts at 8:30 p.m.\n \nDinner is a set menu of many of our favorite entrees we offer at the hotel! (options may vary) \nTour only – $35 per person. \nTour starts at 7:00 p.m. or 8:30 p.m. depending on which one you sign up for! \n** Click the button bellow and fill in the form to make reservations for this exciting evening~!    \nGet Tickets
URL:https://goldhillhotel.net/event/haunted-ghost-tour-at-the-gold-hill-hotel-tonight-13-2/2025-04-10/
CATEGORIES:Ghost Tour
END:VEVENT
BEGIN:VEVENT
DTSTART;TZID=UTC:20250412T150000
DTEND;TZID=UTC:20250412T203000
DTSTAMP:20260425T064025
CREATED:20201004T010430Z
LAST-MODIFIED:20250318T020636Z
UID:10000852-1744470000-1744489800@goldhillhotel.net
SUMMARY:Restaurant and Bar opens at 3 p.m. today due to private event
DESCRIPTION:The restaurant and bar will open today at 3 p.m. due to a private event here at the hotel. \nDinner service will be from 4:30 p.m. to 8:30 p.m. as usual \nThe bar will open to the general public at 3 p.m. to 8:30 p.m. or till “not busy” \nThank you in advance for your understanding. \n\nThe Management
URL:https://goldhillhotel.net/event/3pm/
END:VEVENT
BEGIN:VEVENT
DTSTART;TZID=UTC:20250417T163000
DTEND;TZID=UTC:20250417T203000
DTSTAMP:20260425T064025
CREATED:20191008T062242Z
LAST-MODIFIED:20250417T031744Z
UID:10000921-1744907400-1744921800@goldhillhotel.net
SUMMARY:Lecture Series Continues!  "Business and Commerce on the Comstock 1870s to 1890s"
DESCRIPTION:Lecture Series Continues – Thursday\, April 17th with Joe Curtis and Ron Gallagher’s –  “Business and Commerce on the Comstock 1870s to 1890s” \nWe are pleased to continue the 2025 Gold Hill Lecture Series! \nDinner starts at 4:30 p.m. and lecture starts at 7:00 p.m. \nDescription:  The Comstock’s own Huxsters of History\, the VC Relic AKA Ron Gallagher and Prof. E.P. Stinkwater AKA Joe Curtis\, will present on the subject of “Business and Commerce on the Comstock 1870s to 1890s”.  A mining town can’t exist without a community to support it.  Their intention is to pass on the caretaker duties of the true and relatively accurate history of the Comstock to the next keepers thereof.  Come soak up the Comstock history stuck in their heads and become a Comstock History Caretaker. \nBios:  Ron Gallagher\, was born as a young child and raised on the Comstock.  His family worked in\, owned and operated businesses in Virginia City from the 1870’s into the 1950’s or so. Ron\, contrary to some reports which may be fake news\, did not attend the Fourth Ward School as a child.  He did\, however go to school.  A career in teaching and private industry and a passion for the history of “his” community places him in a rare position to have absorbed the history.  Ron has researched his family history along with general Comstock history for much of his adult Irish life interspersed with occasional “blarney shots”. \nJoe Curtis\, younger than Ron\, was raised in Carson to about age 14\, his parents purchased buildings and opened a Comstock history museum and also dealt in the history and artifacts of Comstock life.  Joe grew up and later became the care taker of vast stores of original historical source material which he has spent spare time outside two careers researching and stuffing the information into the space between his ears.  It now has to be passed on to the future caretakers of Comstock history while he can remember to do so.  He is one of the most passionate purveyors of accurate Comstock history.  Don’t look him in the eye or he will talk history  to you till you get in your car and drive away. \nLecture starts at 7:00 p.m. and costs $10 per person. \nCome early and enjoy dinner before the lecture! We Serve dinner before the lecture at 5\, 5:30\, & 6 p.m. \nPlease fill out this reservation form to sign up for this interesting lecture:\n \n\n\n\n\n\n\n\nName:\n\n\n\nEmail Address:\n\n\n\nHow many in your party?\n\n\n\nDinner and Lecture or Lecture Only?\n Dinner and Lecture\n Lecture Only\n\n\nDinner Reservation Time\n 4:30 P.M.\n 5:00 P.M.\n Lecture Only
URL:https://goldhillhotel.net/event/lecture-series-continues-joe-and-ron/
CATEGORIES:Thursday Night Lecture
END:VEVENT
BEGIN:VEVENT
DTSTART;TZID=UTC:20250424T170000
DTEND;TZID=UTC:20250424T213000
DTSTAMP:20260425T064025
CREATED:20250320T190752Z
LAST-MODIFIED:20250320T190752Z
UID:10001373-1745514000-1745530200@goldhillhotel.net
SUMMARY:Haunted Ghost Tour at the Gold Hill Hotel tonight!
DESCRIPTION:Welcome to the 2025 Ghost Tour series at the Gold Hill Hotel!  \nGet ready for an unforgettable experience at the Gold Hill Hotel\, famously featured on Ghost Adventures and celebrated as Nevada’s 8th most haunted destination! For the fifth consecutive year\, we’re thrilled to offer our spine-tingling Historical Ghost Tours\, where your adventure not only promises thrills but also supports local charities dedicated to historic preservation right here on the Comstock. \nKick off your night with a delectable gourmet dinner at the Crown Point Restaurant\, renowned as one of the best dining spots on the Comstock. After satisfying your taste buds\, prepare for an extraordinary journey back in time as the Northern Nevada Ghost Hunters (NNGH)\, a volunteer organization\, take you on a captivating exploration of the hotel’s haunted history and the eerie stories of the surrounding Slippery Gulch. \nEquipped with ghost-hunting tools and techniques\, you’ll have the chance to reach out to the spirits that linger in the hotel—or maybe even connect with a few who have decided to tag along! Don’t miss the opportunity to venture into some of the hotel’s actual haunted rooms\, when available! \nAnd before or after your thrilling time with NNGH\, why not unwind in the historic 150-year-old bar\, once a favorite of Mark Twain? This is more than just a night out; it’s an adventure you won’t want to miss! Join us for an evening filled with history\, mystery\, and a dash of the supernatural. Reserve your spot now by clicking the link below! \nDinner and Tour – only $60.00 per person\, gratuity and fees not included. \nTour 1 – Dinner is at 5:30 and the tour starts at 7:00 p.m.\nTour 2 – Dinner is at 7:00 and the tour starts at 8:30 p.m.\n \nDinner is a set menu of many of our favorite entrees we offer at the hotel! (options may vary) \nTour only – $35 per person. \nTour starts at 7:00 p.m. or 8:30 p.m. depending on which one you sign up for! \n** Click the button bellow and fill in the form to make reservations for this exciting evening~!    \nGet Tickets
URL:https://goldhillhotel.net/event/haunted-ghost-tour-at-the-gold-hill-hotel-tonight-13-2/2025-04-24/
CATEGORIES:Ghost Tour
END:VEVENT
END:VCALENDAR