BEGIN:VCALENDAR
VERSION:2.0
PRODID:-//Gold Hill Hotel &amp; Saloon - ECPv6.15.20//NONSGML v1.0//EN
CALSCALE:GREGORIAN
METHOD:PUBLISH
X-ORIGINAL-URL:https://goldhillhotel.net
X-WR-CALDESC:Events for Gold Hill Hotel &amp; Saloon
REFRESH-INTERVAL;VALUE=DURATION:PT1H
X-Robots-Tag:noindex
X-PUBLISHED-TTL:PT1H
BEGIN:VTIMEZONE
TZID:UTC
BEGIN:STANDARD
TZOFFSETFROM:+0000
TZOFFSETTO:+0000
TZNAME:UTC
DTSTART:20230101T000000
END:STANDARD
END:VTIMEZONE
BEGIN:VEVENT
DTSTART;TZID=UTC:20241104T163000
DTEND;TZID=UTC:20241104T203000
DTSTAMP:20260421T104654
CREATED:20241102T215517Z
LAST-MODIFIED:20241102T215518Z
UID:10001285-1730737800-1730752200@goldhillhotel.net
SUMMARY:Miner's Dinner Night!
DESCRIPTION:Back by popular demand\, Miner’s Dinner Night featuring a different specialty each week! \n1st Monday of the Month – All you can eat Taco Bar for $15 \n2nd Monday of the Month – “Burger\, Beer\, and a Shot” or “Burger\, Beer\, and unlimited fries” for $25  – Ghost Burger or Custom Burger/Cheeseburger made to order \n3rd Monday of the Month – All you can eat Pizza buffet $15 \n4th Monday of the Month – All you can eat Chicken wing buffet $20 \n5th Monday of the Month (when there is one) – Chef’s Choice surprise! \nAll the buffets include salad and side items also.  Happy hour drink specials available at the bar. \nCall to reserve a table today – 775-847-0111
URL:https://goldhillhotel.net/event/miners-dinner-night-2-2/2024-11-04/
END:VEVENT
BEGIN:VEVENT
DTSTART;TZID=UTC:20241107T163000
DTEND;TZID=UTC:20241107T203000
DTSTAMP:20260421T104655
CREATED:20190729T004218Z
LAST-MODIFIED:20241106T052443Z
UID:10000913-1730997000-1731011400@goldhillhotel.net
SUMMARY:Lecture Series Continues!  "Mary Louise MacKay" a Chautauqua Performed by Dorothea Phelan
DESCRIPTION:Lecture Series Continues – Thursday\, November 7th with Dorothea Phelan – “Louise MacKay” a Chautauqua Performance \nWe are pleased to continue the 2024 Lecture Series at the Gold Hill Hotel! \nDinner starts at 4:30 p.m. and lecture starts at 7:00 p.m. \nLOUISE MACKEY  \nDorothea is currently performing as “Louise Mackey”\, Wife of John Mackay the Bonanza King of Virginia City. \nLouise Mackey was the daughter of a barber and a seamstress in New york.  She longed to grow up and become a Society Lady like one of her mother’s wealthy clients. \nHer family came to the Gold Country of Calif. and then on to Nevada. \nHer story of abandonment\, widowhood\, the loss of a baby and the crippling of  a second daughter found her in poverty in Virginia City. \nShe meets and marries \,John Makey \,and up an coming miner in Virginia City .After years of working he and his partner\, Jim Fair hit the Big Bonanza–the largest deposit of silver ore in the world !Her story is how she achieves her goal and becomes the “Hostess”  with  the Mostess “in International society  and remains a  fine likeable woman in her own right. \nBIO:   \nDorothea Phelan has been an historian\, writer\, researcher\, story tell and living history performer for over 25 years. \nShe was born and grew up in Yerington  where she did “play acting” and performing in neighborhood theatricals. Later became a Drama Coach for children’s plays. \nAfter many years in So. Calif\, widowhood \,and children grown and out on their own \,she used her talents working in Museums and Historical Societies there. She returned to Carson City  four years ago and has been involved as a volunteer at the Nevada State Museum and she i s a Chautauqua Player at the Dangberg Ranch Historical Park. \nFor over 20 years she was an active member and performer in a Women Of The Bible Repertory Group. \nLecture starts at 7:00 p.m. and costs $10 per person. \nCome early and enjoy dinner before the lecture! We Serve dinner before the lecture at 4:3o\, 5\, and 5:30pm. \nPlease fill out this reservation form to sign up for this interesting lecture:\n \n\n\n\n\n\n\n\nName:\n\n\n\nEmail Address:\n\n\n\nHow many in your party?\n\n\n\nDinner and Lecture or Lecture Only?\n Dinner and Lecture\n Lecture Only\n\n\nDinner Reservation Time\n 4:30 P.M.\n 5:00 P.M.\n 5:30 P.M.\n Lecture Only
URL:https://goldhillhotel.net/event/mary-louise-mackay/
CATEGORIES:Thursday Night Lecture
END:VEVENT
BEGIN:VEVENT
DTSTART;TZID=UTC:20241111T163000
DTEND;TZID=UTC:20241111T203000
DTSTAMP:20260421T104655
CREATED:20241102T215517Z
LAST-MODIFIED:20241102T215518Z
UID:10001286-1731342600-1731357000@goldhillhotel.net
SUMMARY:Miner's Dinner Night!
DESCRIPTION:Back by popular demand\, Miner’s Dinner Night featuring a different specialty each week! \n1st Monday of the Month – All you can eat Taco Bar for $15 \n2nd Monday of the Month – “Burger\, Beer\, and a Shot” or “Burger\, Beer\, and unlimited fries” for $25  – Ghost Burger or Custom Burger/Cheeseburger made to order \n3rd Monday of the Month – All you can eat Pizza buffet $15 \n4th Monday of the Month – All you can eat Chicken wing buffet $20 \n5th Monday of the Month (when there is one) – Chef’s Choice surprise! \nAll the buffets include salad and side items also.  Happy hour drink specials available at the bar. \nCall to reserve a table today – 775-847-0111
URL:https://goldhillhotel.net/event/miners-dinner-night-2-2/2024-11-11/
END:VEVENT
BEGIN:VEVENT
DTSTART;TZID=UTC:20241114T163000
DTEND;TZID=UTC:20241114T203000
DTSTAMP:20260421T104655
CREATED:20190208T081041Z
LAST-MODIFIED:20241113T042306Z
UID:10000892-1731601800-1731616200@goldhillhotel.net
SUMMARY:Lecture Series - 2024! “Comstock - Then and Now Part 3” by Joe Curtis & Ron Gallagher
DESCRIPTION:Lecture Series Continues – 2024! “Comstock – Then and Now Part 3” by Joe Curtis & Ron Gallagher \nThis is the conclusion of an amazing series of lectures by Joe Curtis! \nThursday\, November 14th lecture will be Joe Curtis & Ron Gallagher (if health allows) on: “Comstock – Then and Now” – the finale! \nDinner starts at 4:30 p.m. and lecture starts at 7:00 p.m. \nJoe and Ron are back by popular demand to continue their series capturing the Comstock as it has changed through time. This exciting lecture will give you a presentation and photos of the Comstock from the past and contrast them with current pictures of the same locations!  The Ron and Joe Show will be featuring never before seen photos; contrasting the mining history of the Comstock with the more modern tourist-based Virginia City and surrounding area. \nIncluding plenty of photos of an earlier period of VC history.  Even though this is a stand alone presentation\, Joe and Ron will have all new content so if you were present at previous lectures\, you don’t want to miss the continuation! \nBio: Joe Curtis\nJoe’s family moved to VC in 1958.  They bought a building and opened a museum dedicated to the history of life on the Comstock.  He grew up amidst the museum and became infatuated with the history of the Comstock and began collecting old photos of the area back in the day. \nBio: Ron Gallagher\nRon is a well know local aged artifact of the Comstock.  Raised here\, lots of relatives dating well into the lower 1800’s and a head full of Comstock knowledge\, recollections. stories and other associated Comstock BS. \nLecture starts at 7:00 p.m. and costs $10 per person. \nCome early and enjoy dinner before the lecture! We Serve dinner before the lecture at 4:30\, 5:00\, & 5:30 p.m. \nPlease fill out this reservation form to sign up for this exciting lecture:\n \n\n\n\n\n\n\n\nName:\n\n\n\nEmail Address:\n\n\n\nTelephone number in case we need to contact you about your reservation:\n\n\n\nDinner and Lecture or Lecture only?\n Lecture Only\n Lecture and Dinner\n\n\nHow many in your party?\n\n\n\nIf you are having dinner with us\, what time would you like to dine?\n 4:30 p.m.\n 5:00 p.m.\n 5:30 p.m.\n Lecture Only
URL:https://goldhillhotel.net/event/lecture-series-joe-curtis-ron-gallagher/
CATEGORIES:Thursday Night Lecture
END:VEVENT
BEGIN:VEVENT
DTSTART;TZID=UTC:20241118T163000
DTEND;TZID=UTC:20241118T203000
DTSTAMP:20260421T104655
CREATED:20241102T215517Z
LAST-MODIFIED:20241102T215518Z
UID:10001287-1731947400-1731961800@goldhillhotel.net
SUMMARY:Miner's Dinner Night!
DESCRIPTION:Back by popular demand\, Miner’s Dinner Night featuring a different specialty each week! \n1st Monday of the Month – All you can eat Taco Bar for $15 \n2nd Monday of the Month – “Burger\, Beer\, and a Shot” or “Burger\, Beer\, and unlimited fries” for $25  – Ghost Burger or Custom Burger/Cheeseburger made to order \n3rd Monday of the Month – All you can eat Pizza buffet $15 \n4th Monday of the Month – All you can eat Chicken wing buffet $20 \n5th Monday of the Month (when there is one) – Chef’s Choice surprise! \nAll the buffets include salad and side items also.  Happy hour drink specials available at the bar. \nCall to reserve a table today – 775-847-0111
URL:https://goldhillhotel.net/event/miners-dinner-night-2-2/2024-11-18/
END:VEVENT
BEGIN:VEVENT
DTSTART;TZID=UTC:20241125T163000
DTEND;TZID=UTC:20241125T203000
DTSTAMP:20260421T104655
CREATED:20241102T215517Z
LAST-MODIFIED:20241102T215518Z
UID:10001288-1732552200-1732566600@goldhillhotel.net
SUMMARY:Miner's Dinner Night!
DESCRIPTION:Back by popular demand\, Miner’s Dinner Night featuring a different specialty each week! \n1st Monday of the Month – All you can eat Taco Bar for $15 \n2nd Monday of the Month – “Burger\, Beer\, and a Shot” or “Burger\, Beer\, and unlimited fries” for $25  – Ghost Burger or Custom Burger/Cheeseburger made to order \n3rd Monday of the Month – All you can eat Pizza buffet $15 \n4th Monday of the Month – All you can eat Chicken wing buffet $20 \n5th Monday of the Month (when there is one) – Chef’s Choice surprise! \nAll the buffets include salad and side items also.  Happy hour drink specials available at the bar. \nCall to reserve a table today – 775-847-0111
URL:https://goldhillhotel.net/event/miners-dinner-night-2-2/2024-11-25/
END:VEVENT
END:VCALENDAR