BEGIN:VCALENDAR
VERSION:2.0
PRODID:-//Gold Hill Hotel &amp; Saloon - ECPv6.15.20//NONSGML v1.0//EN
CALSCALE:GREGORIAN
METHOD:PUBLISH
X-WR-CALNAME:Gold Hill Hotel &amp; Saloon
X-ORIGINAL-URL:https://goldhillhotel.net
X-WR-CALDESC:Events for Gold Hill Hotel &amp; Saloon
REFRESH-INTERVAL;VALUE=DURATION:PT1H
X-Robots-Tag:noindex
X-PUBLISHED-TTL:PT1H
BEGIN:VTIMEZONE
TZID:UTC
BEGIN:STANDARD
TZOFFSETFROM:+0000
TZOFFSETTO:+0000
TZNAME:UTC
DTSTART:20230101T000000
END:STANDARD
END:VTIMEZONE
BEGIN:VEVENT
DTSTART;TZID=UTC:20240502T163000
DTEND;TZID=UTC:20240502T203000
DTSTAMP:20260419T082528
CREATED:20180504T033513Z
LAST-MODIFIED:20240416T175527Z
UID:10000688-1714667400-1714681800@goldhillhotel.net
SUMMARY:Lecture series - Continues with Stanley Paher's "Nevada Ghost Towns and Mining Camps - The Sequel"
DESCRIPTION:  \nWe are pleased to continue our 2024 Lecture Series! \nThursday\, May 2nd lecture will be Stanley Paher’s lecture on: “Nevada  Ghost Towns & Mining Camps and other interesting Desert destinations – The Sequel” \nDinner starts at 4:30 p.m. and lecture starts at 7:00 p.m. \nLecture Description: \nStanley Paher is the author of  Nevada  Ghost Towns & Mining Camps\, which since its publication in 1970 has sold 68\,800 copies.  Recently Paher followed  up his award-winning book with a companion Desert Atlas which features  about 1\,800 destination points throughout Nevada and eastern California all located on 71 color  maps. \nPaher’s powerpoint  show will draw from  these books as well as from his collection of  unpublished photos.  His voice-over  presentation of about 40 minutes will  conclude with a question and answer session. \nThis will be an all new lecture with never presented material.  You will not want to miss it!  Copies of Stanley’s books will be available for purchase and signing. \nBio: \nNative Nevadan Stanley Paher is owner of Nevada Publications which  in 51 years has  published 114 books  by 53 different authors. Ever since his  years at Las Vegas High School\, he has  explored  desert areas throughout the Southwest through  hiking\, jeeping and camping. In 1982 he moved  permanently to Reno in an effort to  retire but admits he has not done a very good  job of it. Currently  he continues to publish books and   search for  paper items including stock certificates\, “dead” post office cancellations\, and  out of print Nevada books. \nLecture starts at 7:00 p.m. and costs $10 per person. \nCome early and enjoy dinner before the lecture! We Serve dinner from 4:30 p.m. to 8:30 p.m.\n \n\n\n\n\n\n\n\nName:\n\n\n\nEmail Address:\n\n\n\nDinner and Lecture or Lecture only?\n Dinner and Lecture\n Lecture only\n\n\nHow many in your party?\n\n\n\nIf you are coming to the Dinner and Lecture\, what time would you like to dine with us?\n 4:30 p.m.\n 5:00 p.m.\n 5:30 p.m.\n Lecture only
URL:https://goldhillhotel.net/event/lecture-series-continues-stanley-paher/
CATEGORIES:Thursday Night Lecture
END:VEVENT
BEGIN:VEVENT
DTSTART;TZID=UTC:20240506T163000
DTEND;TZID=UTC:20240506T203000
DTSTAMP:20260419T082528
CREATED:20231109T023038Z
LAST-MODIFIED:20231109T023038Z
UID:10001259-1715013000-1715027400@goldhillhotel.net
SUMMARY:Miner's Dinner Night!
DESCRIPTION:Back by popular demand\, Miner’s Dinner Night featuring a different specialty each week! \n1st Monday of the Month – All you can eat Taco Bar for $15 \n2nd Monday of the Month – “Burger\, Beer\, and a Shot” or “Burger\, Beer\, and unlimited fries” for $25  – Ghost Burger or Custom Burger/Cheeseburger made to order \n3rd Monday of the Month – All you can eat Pizza buffet $15 \n4th Monday of the Month – All you can eat Chicken wing buffet $20 \n5th Monday of the Month (when there is one) – Chef’s Choice surprise! \nAll the buffets include salad and side items also.  Happy hour drink specials available at the bar. \nCall to reserve a table today – 775-847-0111
URL:https://goldhillhotel.net/event/miners-dinner-night-2/2024-05-06/
END:VEVENT
BEGIN:VEVENT
DTSTART;TZID=UTC:20240509T170000
DTEND;TZID=UTC:20240509T213000
DTSTAMP:20260419T082528
CREATED:20231202T060120Z
LAST-MODIFIED:20240520T222839Z
UID:10001297-1715274000-1715290200@goldhillhotel.net
SUMMARY:Haunted Ghost Tour at the Gold Hill Hotel tonight!
DESCRIPTION:Welcome to the 2024 Ghost Tour series at the Gold Hill Hotel!  \nThe Gold Hill Hotel (as seen on Ghost Adventures and proclaimed the 8th most haunted location in Nevada) is now offering Historical Ghost Tours.  These tours benefit various local charities on the Comstock.  Hosted by the Northern Nevada Ghost Hunters (NNGH)\, your evening will start with a gourmet dinner in the Crown Point restaurant (one of the best restaurants on the Comstock). \nAfter dinner\, NNGH will guide you back in time with tales of the history and the hauntings of the hotel and the surrounding area\, known as Slippery Gulch. Using ghost hunting tools and techniques\, you can try to make contact with the spirits still in residence at the hotel. Please note that you will be touring some of the actual haunted rooms in the hotel as well! \nBefore the tour or during the intermission\, quench your thirst and calm your nerves with a drink in the 150 year old bar\, as frequented by Mark Twain back in the day!  This is sure to be an evening to remember. Come join us! \nDinner and Tour – only $60.00 per person\, gratuity and fees not included. \nTour 1 – Dinner is at 5:30 and the tour starts at 7:00 p.m.\nTour 2 – Dinner is at 7:00 and the tour starts at 8:30 p.m.\n \nDinner is a set menu of many of our favorite entrees we offer at the hotel! (options may vary) \nTour only – $35 per person. \nTour starts at 7:00 p.m. or 8:30 p.m. depending on which one you sign up for! \n** Click the button bellow and fill in the form to make reservations for this exciting evening~!   Note: Once this is filled out press the “submit” button.  Then a new screen will come up that says “Thank you for your submission.”  Furthermore\, in 10 minutes you will receive an automatic email confirming your ghost tour sign up.  Check your “spam” folder if you don’t see it in your regular email in-basket.   You pay for the tour online and select your entrée the night of the tour** \nGet Tickets
URL:https://goldhillhotel.net/event/haunted-ghost-tour-at-the-gold-hill-hotel-tonight-11-2022-11-10-2/2024-05-09/
CATEGORIES:Ghost Tour
END:VEVENT
BEGIN:VEVENT
DTSTART;TZID=UTC:20240509T170000
DTEND;TZID=UTC:20240509T213000
DTSTAMP:20260419T082528
CREATED:20241224T015102Z
LAST-MODIFIED:20241224T015102Z
UID:10001331-1715274000-1715290200@goldhillhotel.net
SUMMARY:Haunted Ghost Tour at the Gold Hill Hotel tonight!
DESCRIPTION:Welcome to the 2025 Ghost Tour series at the Gold Hill Hotel!  \nThe Gold Hill Hotel (as seen on Ghost Adventures and proclaimed the 8th most haunted location in Nevada) is now offering Historical Ghost Tours.  These tours benefit various local charities on the Comstock.  Hosted by the Northern Nevada Ghost Hunters (NNGH)\, your evening will start with a gourmet dinner in the Crown Point restaurant (one of the best restaurants on the Comstock). \nAfter dinner\, NNGH will guide you back in time with tales of the history and the hauntings of the hotel and the surrounding area\, known as Slippery Gulch. Using ghost hunting tools and techniques\, you can try to make contact with the spirits still in residence at the hotel. Please note that you will be touring some of the actual haunted rooms in the hotel as well! \nBefore the tour or during the intermission\, quench your thirst and calm your nerves with a drink in the 150 year old bar\, as frequented by Mark Twain back in the day!  This is sure to be an evening to remember. Come join us! \nDinner and Tour – only $60.00 per person\, gratuity and fees not included. \nTour 1 – Dinner is at 5:30 and the tour starts at 7:00 p.m.\nTour 2 – Dinner is at 7:00 and the tour starts at 8:30 p.m.\n \nDinner is a set menu of many of our favorite entrees we offer at the hotel! (options may vary) \nTour only – $35 per person. \nTour starts at 7:00 p.m. or 8:30 p.m. depending on which one you sign up for! \n** Click the button bellow and fill in the form to make reservations for this exciting evening~!   Note: Once this is filled out press the “submit” button.  Then a new screen will come up that says “Thank you for your submission.”  Furthermore\, in 10 minutes you will receive an automatic email confirming your ghost tour sign up.  Check your “spam” folder if you don’t see it in your regular email in-basket.   You pay for the tour online and select your entrée the night of the tour** \nGet Tickets
URL:https://goldhillhotel.net/event/haunted-ghost-tour-at-the-gold-hill-hotel-tonight-12/2024-05-09/
CATEGORIES:Ghost Tour
END:VEVENT
BEGIN:VEVENT
DTSTART;TZID=UTC:20240513T163000
DTEND;TZID=UTC:20240513T203000
DTSTAMP:20260419T082528
CREATED:20231109T023038Z
LAST-MODIFIED:20231109T023038Z
UID:10001260-1715617800-1715632200@goldhillhotel.net
SUMMARY:Miner's Dinner Night!
DESCRIPTION:Back by popular demand\, Miner’s Dinner Night featuring a different specialty each week! \n1st Monday of the Month – All you can eat Taco Bar for $15 \n2nd Monday of the Month – “Burger\, Beer\, and a Shot” or “Burger\, Beer\, and unlimited fries” for $25  – Ghost Burger or Custom Burger/Cheeseburger made to order \n3rd Monday of the Month – All you can eat Pizza buffet $15 \n4th Monday of the Month – All you can eat Chicken wing buffet $20 \n5th Monday of the Month (when there is one) – Chef’s Choice surprise! \nAll the buffets include salad and side items also.  Happy hour drink specials available at the bar. \nCall to reserve a table today – 775-847-0111
URL:https://goldhillhotel.net/event/miners-dinner-night-2/2024-05-13/
END:VEVENT
BEGIN:VEVENT
DTSTART;TZID=UTC:20240520T163000
DTEND;TZID=UTC:20240520T203000
DTSTAMP:20260419T082528
CREATED:20231109T023038Z
LAST-MODIFIED:20231109T023038Z
UID:10001261-1716222600-1716237000@goldhillhotel.net
SUMMARY:Miner's Dinner Night!
DESCRIPTION:Back by popular demand\, Miner’s Dinner Night featuring a different specialty each week! \n1st Monday of the Month – All you can eat Taco Bar for $15 \n2nd Monday of the Month – “Burger\, Beer\, and a Shot” or “Burger\, Beer\, and unlimited fries” for $25  – Ghost Burger or Custom Burger/Cheeseburger made to order \n3rd Monday of the Month – All you can eat Pizza buffet $15 \n4th Monday of the Month – All you can eat Chicken wing buffet $20 \n5th Monday of the Month (when there is one) – Chef’s Choice surprise! \nAll the buffets include salad and side items also.  Happy hour drink specials available at the bar. \nCall to reserve a table today – 775-847-0111
URL:https://goldhillhotel.net/event/miners-dinner-night-2/2024-05-20/
END:VEVENT
BEGIN:VEVENT
DTSTART;TZID=UTC:20240523T170000
DTEND;TZID=UTC:20240523T213000
DTSTAMP:20260419T082528
CREATED:20231202T060120Z
LAST-MODIFIED:20240520T222839Z
UID:10001298-1716483600-1716499800@goldhillhotel.net
SUMMARY:Haunted Ghost Tour at the Gold Hill Hotel tonight!
DESCRIPTION:Welcome to the 2024 Ghost Tour series at the Gold Hill Hotel!  \nThe Gold Hill Hotel (as seen on Ghost Adventures and proclaimed the 8th most haunted location in Nevada) is now offering Historical Ghost Tours.  These tours benefit various local charities on the Comstock.  Hosted by the Northern Nevada Ghost Hunters (NNGH)\, your evening will start with a gourmet dinner in the Crown Point restaurant (one of the best restaurants on the Comstock). \nAfter dinner\, NNGH will guide you back in time with tales of the history and the hauntings of the hotel and the surrounding area\, known as Slippery Gulch. Using ghost hunting tools and techniques\, you can try to make contact with the spirits still in residence at the hotel. Please note that you will be touring some of the actual haunted rooms in the hotel as well! \nBefore the tour or during the intermission\, quench your thirst and calm your nerves with a drink in the 150 year old bar\, as frequented by Mark Twain back in the day!  This is sure to be an evening to remember. Come join us! \nDinner and Tour – only $60.00 per person\, gratuity and fees not included. \nTour 1 – Dinner is at 5:30 and the tour starts at 7:00 p.m.\nTour 2 – Dinner is at 7:00 and the tour starts at 8:30 p.m.\n \nDinner is a set menu of many of our favorite entrees we offer at the hotel! (options may vary) \nTour only – $35 per person. \nTour starts at 7:00 p.m. or 8:30 p.m. depending on which one you sign up for! \n** Click the button bellow and fill in the form to make reservations for this exciting evening~!   Note: Once this is filled out press the “submit” button.  Then a new screen will come up that says “Thank you for your submission.”  Furthermore\, in 10 minutes you will receive an automatic email confirming your ghost tour sign up.  Check your “spam” folder if you don’t see it in your regular email in-basket.   You pay for the tour online and select your entrée the night of the tour** \nGet Tickets
URL:https://goldhillhotel.net/event/haunted-ghost-tour-at-the-gold-hill-hotel-tonight-11-2022-11-10-2/2024-05-23/
CATEGORIES:Ghost Tour
END:VEVENT
BEGIN:VEVENT
DTSTART;TZID=UTC:20240523T170000
DTEND;TZID=UTC:20240523T213000
DTSTAMP:20260419T082528
CREATED:20241224T015102Z
LAST-MODIFIED:20241224T015102Z
UID:10001332-1716483600-1716499800@goldhillhotel.net
SUMMARY:Haunted Ghost Tour at the Gold Hill Hotel tonight!
DESCRIPTION:Welcome to the 2025 Ghost Tour series at the Gold Hill Hotel!  \nThe Gold Hill Hotel (as seen on Ghost Adventures and proclaimed the 8th most haunted location in Nevada) is now offering Historical Ghost Tours.  These tours benefit various local charities on the Comstock.  Hosted by the Northern Nevada Ghost Hunters (NNGH)\, your evening will start with a gourmet dinner in the Crown Point restaurant (one of the best restaurants on the Comstock). \nAfter dinner\, NNGH will guide you back in time with tales of the history and the hauntings of the hotel and the surrounding area\, known as Slippery Gulch. Using ghost hunting tools and techniques\, you can try to make contact with the spirits still in residence at the hotel. Please note that you will be touring some of the actual haunted rooms in the hotel as well! \nBefore the tour or during the intermission\, quench your thirst and calm your nerves with a drink in the 150 year old bar\, as frequented by Mark Twain back in the day!  This is sure to be an evening to remember. Come join us! \nDinner and Tour – only $60.00 per person\, gratuity and fees not included. \nTour 1 – Dinner is at 5:30 and the tour starts at 7:00 p.m.\nTour 2 – Dinner is at 7:00 and the tour starts at 8:30 p.m.\n \nDinner is a set menu of many of our favorite entrees we offer at the hotel! (options may vary) \nTour only – $35 per person. \nTour starts at 7:00 p.m. or 8:30 p.m. depending on which one you sign up for! \n** Click the button bellow and fill in the form to make reservations for this exciting evening~!   Note: Once this is filled out press the “submit” button.  Then a new screen will come up that says “Thank you for your submission.”  Furthermore\, in 10 minutes you will receive an automatic email confirming your ghost tour sign up.  Check your “spam” folder if you don’t see it in your regular email in-basket.   You pay for the tour online and select your entrée the night of the tour** \nGet Tickets
URL:https://goldhillhotel.net/event/haunted-ghost-tour-at-the-gold-hill-hotel-tonight-12/2024-05-23/
CATEGORIES:Ghost Tour
END:VEVENT
BEGIN:VEVENT
DTSTART;TZID=UTC:20240527T163000
DTEND;TZID=UTC:20240527T203000
DTSTAMP:20260419T082528
CREATED:20231109T023038Z
LAST-MODIFIED:20231109T023038Z
UID:10001262-1716827400-1716841800@goldhillhotel.net
SUMMARY:Miner's Dinner Night!
DESCRIPTION:Back by popular demand\, Miner’s Dinner Night featuring a different specialty each week! \n1st Monday of the Month – All you can eat Taco Bar for $15 \n2nd Monday of the Month – “Burger\, Beer\, and a Shot” or “Burger\, Beer\, and unlimited fries” for $25  – Ghost Burger or Custom Burger/Cheeseburger made to order \n3rd Monday of the Month – All you can eat Pizza buffet $15 \n4th Monday of the Month – All you can eat Chicken wing buffet $20 \n5th Monday of the Month (when there is one) – Chef’s Choice surprise! \nAll the buffets include salad and side items also.  Happy hour drink specials available at the bar. \nCall to reserve a table today – 775-847-0111
URL:https://goldhillhotel.net/event/miners-dinner-night-2/2024-05-27/
END:VEVENT
BEGIN:VEVENT
DTSTART;TZID=UTC:20240530T170000
DTEND;TZID=UTC:20240530T213000
DTSTAMP:20260419T082528
CREATED:20231202T060120Z
LAST-MODIFIED:20240520T222839Z
UID:10001299-1717088400-1717104600@goldhillhotel.net
SUMMARY:Haunted Ghost Tour at the Gold Hill Hotel tonight!
DESCRIPTION:Welcome to the 2024 Ghost Tour series at the Gold Hill Hotel!  \nThe Gold Hill Hotel (as seen on Ghost Adventures and proclaimed the 8th most haunted location in Nevada) is now offering Historical Ghost Tours.  These tours benefit various local charities on the Comstock.  Hosted by the Northern Nevada Ghost Hunters (NNGH)\, your evening will start with a gourmet dinner in the Crown Point restaurant (one of the best restaurants on the Comstock). \nAfter dinner\, NNGH will guide you back in time with tales of the history and the hauntings of the hotel and the surrounding area\, known as Slippery Gulch. Using ghost hunting tools and techniques\, you can try to make contact with the spirits still in residence at the hotel. Please note that you will be touring some of the actual haunted rooms in the hotel as well! \nBefore the tour or during the intermission\, quench your thirst and calm your nerves with a drink in the 150 year old bar\, as frequented by Mark Twain back in the day!  This is sure to be an evening to remember. Come join us! \nDinner and Tour – only $60.00 per person\, gratuity and fees not included. \nTour 1 – Dinner is at 5:30 and the tour starts at 7:00 p.m.\nTour 2 – Dinner is at 7:00 and the tour starts at 8:30 p.m.\n \nDinner is a set menu of many of our favorite entrees we offer at the hotel! (options may vary) \nTour only – $35 per person. \nTour starts at 7:00 p.m. or 8:30 p.m. depending on which one you sign up for! \n** Click the button bellow and fill in the form to make reservations for this exciting evening~!   Note: Once this is filled out press the “submit” button.  Then a new screen will come up that says “Thank you for your submission.”  Furthermore\, in 10 minutes you will receive an automatic email confirming your ghost tour sign up.  Check your “spam” folder if you don’t see it in your regular email in-basket.   You pay for the tour online and select your entrée the night of the tour** \nGet Tickets
URL:https://goldhillhotel.net/event/haunted-ghost-tour-at-the-gold-hill-hotel-tonight-11-2022-11-10-2/2024-05-30/
CATEGORIES:Ghost Tour
END:VEVENT
BEGIN:VEVENT
DTSTART;TZID=UTC:20240530T170000
DTEND;TZID=UTC:20240530T213000
DTSTAMP:20260419T082528
CREATED:20241224T015102Z
LAST-MODIFIED:20241224T015102Z
UID:10001333-1717088400-1717104600@goldhillhotel.net
SUMMARY:Haunted Ghost Tour at the Gold Hill Hotel tonight!
DESCRIPTION:Welcome to the 2025 Ghost Tour series at the Gold Hill Hotel!  \nThe Gold Hill Hotel (as seen on Ghost Adventures and proclaimed the 8th most haunted location in Nevada) is now offering Historical Ghost Tours.  These tours benefit various local charities on the Comstock.  Hosted by the Northern Nevada Ghost Hunters (NNGH)\, your evening will start with a gourmet dinner in the Crown Point restaurant (one of the best restaurants on the Comstock). \nAfter dinner\, NNGH will guide you back in time with tales of the history and the hauntings of the hotel and the surrounding area\, known as Slippery Gulch. Using ghost hunting tools and techniques\, you can try to make contact with the spirits still in residence at the hotel. Please note that you will be touring some of the actual haunted rooms in the hotel as well! \nBefore the tour or during the intermission\, quench your thirst and calm your nerves with a drink in the 150 year old bar\, as frequented by Mark Twain back in the day!  This is sure to be an evening to remember. Come join us! \nDinner and Tour – only $60.00 per person\, gratuity and fees not included. \nTour 1 – Dinner is at 5:30 and the tour starts at 7:00 p.m.\nTour 2 – Dinner is at 7:00 and the tour starts at 8:30 p.m.\n \nDinner is a set menu of many of our favorite entrees we offer at the hotel! (options may vary) \nTour only – $35 per person. \nTour starts at 7:00 p.m. or 8:30 p.m. depending on which one you sign up for! \n** Click the button bellow and fill in the form to make reservations for this exciting evening~!   Note: Once this is filled out press the “submit” button.  Then a new screen will come up that says “Thank you for your submission.”  Furthermore\, in 10 minutes you will receive an automatic email confirming your ghost tour sign up.  Check your “spam” folder if you don’t see it in your regular email in-basket.   You pay for the tour online and select your entrée the night of the tour** \nGet Tickets
URL:https://goldhillhotel.net/event/haunted-ghost-tour-at-the-gold-hill-hotel-tonight-12/2024-05-30/
CATEGORIES:Ghost Tour
END:VEVENT
END:VCALENDAR