BEGIN:VCALENDAR
VERSION:2.0
PRODID:-//Gold Hill Hotel &amp; Saloon - ECPv6.15.20//NONSGML v1.0//EN
CALSCALE:GREGORIAN
METHOD:PUBLISH
X-WR-CALNAME:Gold Hill Hotel &amp; Saloon
X-ORIGINAL-URL:https://goldhillhotel.net
X-WR-CALDESC:Events for Gold Hill Hotel &amp; Saloon
REFRESH-INTERVAL;VALUE=DURATION:PT1H
X-Robots-Tag:noindex
X-PUBLISHED-TTL:PT1H
BEGIN:VTIMEZONE
TZID:UTC
BEGIN:STANDARD
TZOFFSETFROM:+0000
TZOFFSETTO:+0000
TZNAME:UTC
DTSTART:20210101T000000
END:STANDARD
END:VTIMEZONE
BEGIN:VEVENT
DTSTART;TZID=UTC:20220501T090000
DTEND;TZID=UTC:20220501T140000
DTSTAMP:20260420T095104
CREATED:20210531T051140Z
LAST-MODIFIED:20220828T054316Z
UID:10001016-1651395600-1651413600@goldhillhotel.net
SUMMARY:Champagne Brunch
DESCRIPTION:***STARTING SUNDAY 9/11 WE WILL BE INTRODUCING A NEW BRUNCH/LUNCH MENU AND WILL BE DISCONTINUING OUR BUFFET*** \nDue to popular demand we are continuing our famous Champagne Sunday Brunch from 9 a.m. to 1 p.m every Sunday throughout the spring and summer of 2022!  The Saloon will remain open while there are patrons enjoying the bar. \nOur chef will include many of our most popular brunch items. Come in for one of our famous V&T Bloody Mary’s\, and Eggs Rodeo (our twist on the Eggs Benedict) and Country Potatoes! Or add the “Bottomless” Champagne or Mimosa for $10! \nCall us to reserve your table – 775-847-0111
URL:https://goldhillhotel.net/event/champagne-brunch/2022-05-01/
END:VEVENT
BEGIN:VEVENT
DTSTART;TZID=UTC:20220502T163000
DTEND;TZID=UTC:20220502T203000
DTSTAMP:20260420T095104
CREATED:20170516T032851Z
LAST-MODIFIED:20220726T035050Z
UID:10000646-1651509000-1651523400@goldhillhotel.net
SUMMARY:Miner's Dinner Night!
DESCRIPTION:Back by popular demand\, Miner’s Dinner Night featuring a different specialty each week! \n1st Monday of the Month – All you can eat Taco Bar for $15 \n2nd Monday of the Month – Burger\, Beer\, and a Shot for $25 (some restrictions apply) – Substitute our all new Crabby Patty if you are not in the mood for a burger! \n3rd Monday of the Month – All you can eat Pizza buffet $15 \n4th Monday of the Month – Al you can eat Chicken wing buffet $20 \n5th Monday of the Month (when there is one) – Chef’s Choice surprise! \nAll the buffets include salad and side items also.  Happy hour drink specials available at the bar. \nCall to reserve a table today – 775-847-0111
URL:https://goldhillhotel.net/event/miners-dinner-night/2022-05-02/
END:VEVENT
BEGIN:VEVENT
DTSTART;TZID=UTC:20220509T163000
DTEND;TZID=UTC:20220509T203000
DTSTAMP:20260420T095104
CREATED:20170516T032851Z
LAST-MODIFIED:20220726T035050Z
UID:10000647-1652113800-1652128200@goldhillhotel.net
SUMMARY:Miner's Dinner Night!
DESCRIPTION:Back by popular demand\, Miner’s Dinner Night featuring a different specialty each week! \n1st Monday of the Month – All you can eat Taco Bar for $15 \n2nd Monday of the Month – Burger\, Beer\, and a Shot for $25 (some restrictions apply) – Substitute our all new Crabby Patty if you are not in the mood for a burger! \n3rd Monday of the Month – All you can eat Pizza buffet $15 \n4th Monday of the Month – Al you can eat Chicken wing buffet $20 \n5th Monday of the Month (when there is one) – Chef’s Choice surprise! \nAll the buffets include salad and side items also.  Happy hour drink specials available at the bar. \nCall to reserve a table today – 775-847-0111
URL:https://goldhillhotel.net/event/miners-dinner-night/2022-05-09/
END:VEVENT
BEGIN:VEVENT
DTSTART;TZID=UTC:20220512T170000
DTEND;TZID=UTC:20220512T213000
DTSTAMP:20260420T095104
CREATED:20200726T042314Z
LAST-MODIFIED:20220715T215424Z
UID:10000968-1652374800-1652391000@goldhillhotel.net
SUMMARY:Haunted Ghost Tour at the Gold Hill Hotel tonight!
DESCRIPTION:Welcome to the 2022 Ghost Tour series at the Gold Hill Hotel!  \nThe Gold Hill Hotel (as seen on Ghost Adventures and proclaimed the 8th most haunted location in Nevada) is now offering Historical Ghost Tours.  These tours benefit The Comstock Foundation for History and Culture.  Hosted by the Northern Nevada Ghost Hunters (NNGH)\, your evening will start with a gourmet dinner in the Crown Point restaurant (one of the best restaurants on the Comstock). \nAfter dinner\, NNGH will guide you back in time with tales of the history and the hauntings of the hotel and the surrounding area\, known as Slippery Gulch. Using ghost hunting tools and techniques\, you can try to make contact with the spirits still in residence at the hotel. Please note that you will be touring some of the actual haunted rooms in the hotel as well! \nBefore the tour or during the intermission\, quench your thirst and calm your nerves with a drink in the 150 year old bar\, as frequented by Mark Twain back in the day!  This is sure to be an evening to remember. Come join us! \nDinner and Tour – only $60.00 per person\, gratuity and transaction fees not included. \nTour 1 – Dinner is at 5:00 and the tour starts at 6:30 p.m.\nTour 2 – Dinner is at 6:30 and the tour starts at 8:00 p.m.\n \nDinner is a set menu of many of our favorite entrees we offer at the hotel! (options may vary) \nTour only – $30 per person. \nTour starts at 6:30 p.m. or 8:00 p.m. depending on which one you sign up for! \n** Click the button bellow and fill in the form to make reservations for this exciting evening~!   Note: Once this is filled out press the “submit” button.  Then a new screen will come up that says “Thank you for your submission.”  Furthermore\, in 10 minutes you will receive an automatic email confirming your ghost tour sign up.  Check your “spam” folder if you don’t see it in your regular email in-basket.   You pay for the tour online and select your entrée the night of the tour**\n \n\nGet Tickets
URL:https://goldhillhotel.net/event/haunted-ghost-tour-at-the-gold-hill-hotel-tonight-11/2022-05-12/
CATEGORIES:Ghost Tour
END:VEVENT
BEGIN:VEVENT
DTSTART;TZID=UTC:20220515T090000
DTEND;TZID=UTC:20220515T140000
DTSTAMP:20260420T095104
CREATED:20210531T051140Z
LAST-MODIFIED:20220828T054316Z
UID:10001017-1652605200-1652623200@goldhillhotel.net
SUMMARY:Champagne Brunch
DESCRIPTION:***STARTING SUNDAY 9/11 WE WILL BE INTRODUCING A NEW BRUNCH/LUNCH MENU AND WILL BE DISCONTINUING OUR BUFFET*** \nDue to popular demand we are continuing our famous Champagne Sunday Brunch from 9 a.m. to 1 p.m every Sunday throughout the spring and summer of 2022!  The Saloon will remain open while there are patrons enjoying the bar. \nOur chef will include many of our most popular brunch items. Come in for one of our famous V&T Bloody Mary’s\, and Eggs Rodeo (our twist on the Eggs Benedict) and Country Potatoes! Or add the “Bottomless” Champagne or Mimosa for $10! \nCall us to reserve your table – 775-847-0111
URL:https://goldhillhotel.net/event/champagne-brunch/2022-05-15/
END:VEVENT
BEGIN:VEVENT
DTSTART;TZID=UTC:20220516T163000
DTEND;TZID=UTC:20220516T203000
DTSTAMP:20260420T095104
CREATED:20170516T032851Z
LAST-MODIFIED:20220726T035050Z
UID:10000648-1652718600-1652733000@goldhillhotel.net
SUMMARY:Miner's Dinner Night!
DESCRIPTION:Back by popular demand\, Miner’s Dinner Night featuring a different specialty each week! \n1st Monday of the Month – All you can eat Taco Bar for $15 \n2nd Monday of the Month – Burger\, Beer\, and a Shot for $25 (some restrictions apply) – Substitute our all new Crabby Patty if you are not in the mood for a burger! \n3rd Monday of the Month – All you can eat Pizza buffet $15 \n4th Monday of the Month – Al you can eat Chicken wing buffet $20 \n5th Monday of the Month (when there is one) – Chef’s Choice surprise! \nAll the buffets include salad and side items also.  Happy hour drink specials available at the bar. \nCall to reserve a table today – 775-847-0111
URL:https://goldhillhotel.net/event/miners-dinner-night/2022-05-16/
END:VEVENT
BEGIN:VEVENT
DTSTART;TZID=UTC:20220519T163000
DTEND;TZID=UTC:20220519T203000
DTSTAMP:20260420T095104
CREATED:20190913T042443Z
LAST-MODIFIED:20220511T010946Z
UID:10000914-1652977800-1652992200@goldhillhotel.net
SUMMARY:Lecture Series Continues!  “Capitalism Lost: The Systemic Road to Recovery” by Corrado DeGasperis
DESCRIPTION:Lecture Series Continues – Thursday\, May 19th with Corrado DeGasperis’ – “Capitalism Lost: The Systemic Road to Recovery” \nWe are pleased to continue the 2022 Lecture Series! \nDinner starts at 4:30 p.m. and lecture starts at 7:00 p.m. \nDescription:  Mr. DeGasperis will present a current and compelling view of capitalism and how current practices\, paradigms and short term views (greed and fear) are undermining society and how a more sustainable\, systemic view of capitalism and our society must pervade for society\, as we know it\, to sustain and prosper.  This presentation aggressively challenge current norms\, including economic\, monetary and accounting policies and usually result in lively debates with the audience. \nBio:  Mr. DeGasperis is Executive Chairman\, Comstock Mining Inc.\, since September 2015\, President and Chief Executive Officer since April 2010\, also a founding member and the Chairman of the Comstock Foundation for History and Culture\, a 501(c)3\, not-for profit organization dedicated to the preservation and restoration of Comstock Lode Historic District and the Chairman of the Virginia City Tourism Commission. \nLecture starts at 7:00 p.m. and costs $10 per person. \nCome early and enjoy dinner before the lecture! We Serve dinner before the lecture at 4:30\, 5:00\, 5:30 p.m. \nPlease fill out this reservation form to sign up for this interesting lecture:\n \n\n\n\n\n\n\n\nName:\n\n\n\nEmail Address:\n\n\n\nDinner and Lecture or Lecture only?\n Dinner and Lecture\n Lecture only\n\n\nHow many in your party?\n\n\n\nIf you are coming to the dinner and Lecture\, what time would you like to dine with us?\n 4:30 p.m.\n 5:00 p.m.\n 5:30 p.m.
URL:https://goldhillhotel.net/event/lecture-series-continues-capitalism-lost/
CATEGORIES:Thursday Night Lecture
END:VEVENT
BEGIN:VEVENT
DTSTART;TZID=UTC:20220522T090000
DTEND;TZID=UTC:20220522T140000
DTSTAMP:20260420T095104
CREATED:20210531T051140Z
LAST-MODIFIED:20220828T054316Z
UID:10001018-1653210000-1653228000@goldhillhotel.net
SUMMARY:Champagne Brunch
DESCRIPTION:***STARTING SUNDAY 9/11 WE WILL BE INTRODUCING A NEW BRUNCH/LUNCH MENU AND WILL BE DISCONTINUING OUR BUFFET*** \nDue to popular demand we are continuing our famous Champagne Sunday Brunch from 9 a.m. to 1 p.m every Sunday throughout the spring and summer of 2022!  The Saloon will remain open while there are patrons enjoying the bar. \nOur chef will include many of our most popular brunch items. Come in for one of our famous V&T Bloody Mary’s\, and Eggs Rodeo (our twist on the Eggs Benedict) and Country Potatoes! Or add the “Bottomless” Champagne or Mimosa for $10! \nCall us to reserve your table – 775-847-0111
URL:https://goldhillhotel.net/event/champagne-brunch/2022-05-22/
END:VEVENT
BEGIN:VEVENT
DTSTART;TZID=UTC:20220522T103000
DTEND;TZID=UTC:20220522T130000
DTSTAMP:20260420T095104
CREATED:20190121T023641Z
LAST-MODIFIED:20220506T003651Z
UID:10000891-1653215400-1653224400@goldhillhotel.net
SUMMARY:Restaurant will be open reduced hours today for Sunday Brunch 9-10:30am
DESCRIPTION:The restaurant will be closing early today for Sunday Brunch due to a private wedding here at the hotel.  Limited Brunch hours from 9-10:30am \nWe are sorry for the inconvenience!  We try like heck to avoid closings such as this\, but since this is a once in a lifetime wedding\, we sometimes make exceptions and this is one of them. \nThank you for your understanding. \n\nThe Management
URL:https://goldhillhotel.net/event/restaurant-will-be-closed-today-for-sunday-brunch-due-to-private-wedding-at-the-hotel/
CATEGORIES:Event
END:VEVENT
BEGIN:VEVENT
DTSTART;TZID=UTC:20220523T163000
DTEND;TZID=UTC:20220523T203000
DTSTAMP:20260420T095104
CREATED:20170516T032851Z
LAST-MODIFIED:20220726T035050Z
UID:10000649-1653323400-1653337800@goldhillhotel.net
SUMMARY:Miner's Dinner Night!
DESCRIPTION:Back by popular demand\, Miner’s Dinner Night featuring a different specialty each week! \n1st Monday of the Month – All you can eat Taco Bar for $15 \n2nd Monday of the Month – Burger\, Beer\, and a Shot for $25 (some restrictions apply) – Substitute our all new Crabby Patty if you are not in the mood for a burger! \n3rd Monday of the Month – All you can eat Pizza buffet $15 \n4th Monday of the Month – Al you can eat Chicken wing buffet $20 \n5th Monday of the Month (when there is one) – Chef’s Choice surprise! \nAll the buffets include salad and side items also.  Happy hour drink specials available at the bar. \nCall to reserve a table today – 775-847-0111
URL:https://goldhillhotel.net/event/miners-dinner-night/2022-05-23/
END:VEVENT
BEGIN:VEVENT
DTSTART;TZID=UTC:20220526T170000
DTEND;TZID=UTC:20220526T213000
DTSTAMP:20260420T095104
CREATED:20200726T042314Z
LAST-MODIFIED:20220715T215424Z
UID:10000969-1653584400-1653600600@goldhillhotel.net
SUMMARY:Haunted Ghost Tour at the Gold Hill Hotel tonight!
DESCRIPTION:Welcome to the 2022 Ghost Tour series at the Gold Hill Hotel!  \nThe Gold Hill Hotel (as seen on Ghost Adventures and proclaimed the 8th most haunted location in Nevada) is now offering Historical Ghost Tours.  These tours benefit The Comstock Foundation for History and Culture.  Hosted by the Northern Nevada Ghost Hunters (NNGH)\, your evening will start with a gourmet dinner in the Crown Point restaurant (one of the best restaurants on the Comstock). \nAfter dinner\, NNGH will guide you back in time with tales of the history and the hauntings of the hotel and the surrounding area\, known as Slippery Gulch. Using ghost hunting tools and techniques\, you can try to make contact with the spirits still in residence at the hotel. Please note that you will be touring some of the actual haunted rooms in the hotel as well! \nBefore the tour or during the intermission\, quench your thirst and calm your nerves with a drink in the 150 year old bar\, as frequented by Mark Twain back in the day!  This is sure to be an evening to remember. Come join us! \nDinner and Tour – only $60.00 per person\, gratuity and transaction fees not included. \nTour 1 – Dinner is at 5:00 and the tour starts at 6:30 p.m.\nTour 2 – Dinner is at 6:30 and the tour starts at 8:00 p.m.\n \nDinner is a set menu of many of our favorite entrees we offer at the hotel! (options may vary) \nTour only – $30 per person. \nTour starts at 6:30 p.m. or 8:00 p.m. depending on which one you sign up for! \n** Click the button bellow and fill in the form to make reservations for this exciting evening~!   Note: Once this is filled out press the “submit” button.  Then a new screen will come up that says “Thank you for your submission.”  Furthermore\, in 10 minutes you will receive an automatic email confirming your ghost tour sign up.  Check your “spam” folder if you don’t see it in your regular email in-basket.   You pay for the tour online and select your entrée the night of the tour**\n \n\nGet Tickets
URL:https://goldhillhotel.net/event/haunted-ghost-tour-at-the-gold-hill-hotel-tonight-11/2022-05-26/
CATEGORIES:Ghost Tour
END:VEVENT
BEGIN:VEVENT
DTSTART;TZID=UTC:20220529T090000
DTEND;TZID=UTC:20220529T140000
DTSTAMP:20260420T095104
CREATED:20210531T051140Z
LAST-MODIFIED:20220828T054316Z
UID:10001019-1653814800-1653832800@goldhillhotel.net
SUMMARY:Champagne Brunch
DESCRIPTION:***STARTING SUNDAY 9/11 WE WILL BE INTRODUCING A NEW BRUNCH/LUNCH MENU AND WILL BE DISCONTINUING OUR BUFFET*** \nDue to popular demand we are continuing our famous Champagne Sunday Brunch from 9 a.m. to 1 p.m every Sunday throughout the spring and summer of 2022!  The Saloon will remain open while there are patrons enjoying the bar. \nOur chef will include many of our most popular brunch items. Come in for one of our famous V&T Bloody Mary’s\, and Eggs Rodeo (our twist on the Eggs Benedict) and Country Potatoes! Or add the “Bottomless” Champagne or Mimosa for $10! \nCall us to reserve your table – 775-847-0111
URL:https://goldhillhotel.net/event/champagne-brunch/2022-05-29/
END:VEVENT
BEGIN:VEVENT
DTSTART;TZID=UTC:20220530T163000
DTEND;TZID=UTC:20220530T203000
DTSTAMP:20260420T095104
CREATED:20170516T032851Z
LAST-MODIFIED:20220726T035050Z
UID:10000650-1653928200-1653942600@goldhillhotel.net
SUMMARY:Miner's Dinner Night!
DESCRIPTION:Back by popular demand\, Miner’s Dinner Night featuring a different specialty each week! \n1st Monday of the Month – All you can eat Taco Bar for $15 \n2nd Monday of the Month – Burger\, Beer\, and a Shot for $25 (some restrictions apply) – Substitute our all new Crabby Patty if you are not in the mood for a burger! \n3rd Monday of the Month – All you can eat Pizza buffet $15 \n4th Monday of the Month – Al you can eat Chicken wing buffet $20 \n5th Monday of the Month (when there is one) – Chef’s Choice surprise! \nAll the buffets include salad and side items also.  Happy hour drink specials available at the bar. \nCall to reserve a table today – 775-847-0111
URL:https://goldhillhotel.net/event/miners-dinner-night/2022-05-30/
END:VEVENT
END:VCALENDAR