BEGIN:VCALENDAR
VERSION:2.0
PRODID:-//Gold Hill Hotel &amp; Saloon - ECPv6.15.20//NONSGML v1.0//EN
CALSCALE:GREGORIAN
METHOD:PUBLISH
X-ORIGINAL-URL:https://goldhillhotel.net
X-WR-CALDESC:Events for Gold Hill Hotel &amp; Saloon
REFRESH-INTERVAL;VALUE=DURATION:PT1H
X-Robots-Tag:noindex
X-PUBLISHED-TTL:PT1H
BEGIN:VTIMEZONE
TZID:UTC
BEGIN:STANDARD
TZOFFSETFROM:+0000
TZOFFSETTO:+0000
TZNAME:UTC
DTSTART:20170101T000000
END:STANDARD
END:VTIMEZONE
BEGIN:VEVENT
DTSTART;TZID=UTC:20181101T170000
DTEND;TZID=UTC:20181101T203000
DTSTAMP:20260420T003431
CREATED:20181027T033447Z
LAST-MODIFIED:20181027T033447Z
UID:10000755-1541091600-1541104200@goldhillhotel.net
SUMMARY:Lecture series continues!  The Life & Times of George Hearst / Comstock Miner\, by Fred Holabird
DESCRIPTION:We are pleased to continue our 2018 Lecture Series with the Comstock Foundation for History and Culture! \nThursday\, November 1st lecture will be Fred Holabird on:  “The Life & Times of George Hearst / Comstock Miner”\n \nDinner starts at 5:00 p.m. and lecture starts at 7:00 p.m. \nGeorge Hearst of Comstock fame was raised in a log cabin on his family’s farm in rural Missouri. \nHe headed to California in 1850 for the gold rush. In the summer of 1859\, Hearst learned of the wonderful silver assays of the “blue stuff” on what was to become the Comstock Lode. Hearst hurried over to the Comstock where he arranged to buy a one-sixth interest in the Ophir Mine. That winter\, Hearst and his partners managed to mine 38 tons of high-grade silver ore\, packed it across the Sierra on muleback\, had it smelted in San Francisco\, and made $91\,000 profit\, or roughly $2\,500\,000 in 2016 dollars. \nOur guest lecturer \, Fred Holabird is well know Nationally as a historian and antiquities specialist. \nLecture starts at 7:00 p.m. and costs $5 per person. \nCome early and enjoy dinner before the lecture! We Serve dinner before the lecture at 5\, 5:30\, & 6 p.m. \nPlease fill out this reservation form to sign up for this exciting lecture: \n  \n\n\n\n\n\n\n\nName:\n\n\n\nEmail Address:\n\n\n\nDinner and Lecture or Lecture only?\n Dinner and Lecture\n Lecture only\n\n\nHow many in your party?\n\n\n\nIf you are coming to the dinner and Lecture\, what time would you like to dine with us?\n 5:00 p.m.\n 5:30 p.m.\n 6:00 p.m.
URL:https://goldhillhotel.net/event/lecture-series-continues-the-life-times-of-george-hearst-comstock-miner-by-fred-holabird/
CATEGORIES:Thursday Night Lecture
END:VEVENT
BEGIN:VEVENT
DTSTART;TZID=UTC:20181102T173000
DTEND;TZID=UTC:20181102T200000
DTSTAMP:20260420T003431
CREATED:20180905T041440Z
LAST-MODIFIED:20181102T004258Z
UID:10000867-1541179800-1541188800@goldhillhotel.net
SUMMARY:Enjoy a romantic evening! Guitarist Jack Di Carlo performing tonight!
DESCRIPTION:We will be featuring the romantic acoustic guitar stylings of Jack Di Carlo in our main dining room this evening from 5:30 to 8 p.m. \nTake your special someone out to dinner tonight and enjoy this romantic music. \nTry our Certified Angus 12 oz. Rib-Eye special topped with Blue Cheese and Mushroom Demi glace.  Or how about fresh Atlantic Salmon or Shrimp Scampi featuring Jumbo Tiger Prawns? \nWe have some new menu items we are featuring as well!  Try our new “Ghost Burger\,” Ahi Tuna Poke\, or Clams Linguine – you’ll be glad you did! \nAfter dinner\, savor a drink in our world famous bar\, as frequented by Mark Twain back in the day! \nCall for reservations!  775-847-0111 \nOr email Patrick McNamee at: pat@gold-hill-hotel-saloon-b49f0b.ingress-baronn.ewp.live \n** We just need your name\, number of people in your party\, and the time you would like to dine! **
URL:https://goldhillhotel.net/event/enjoy-a-romantic-evening-guitarist-jack-di-carlo-performing-tonight-2018-10-26/2018-11-02/
CATEGORIES:Friday night acoustic guitar music
END:VEVENT
BEGIN:VEVENT
DTSTART;TZID=UTC:20181109T173000
DTEND;TZID=UTC:20181109T200000
DTSTAMP:20260420T003431
CREATED:20180905T041440Z
LAST-MODIFIED:20181102T004258Z
UID:10000868-1541784600-1541793600@goldhillhotel.net
SUMMARY:Enjoy a romantic evening! Guitarist Jack Di Carlo performing tonight!
DESCRIPTION:We will be featuring the romantic acoustic guitar stylings of Jack Di Carlo in our main dining room this evening from 5:30 to 8 p.m. \nTake your special someone out to dinner tonight and enjoy this romantic music. \nTry our Certified Angus 12 oz. Rib-Eye special topped with Blue Cheese and Mushroom Demi glace.  Or how about fresh Atlantic Salmon or Shrimp Scampi featuring Jumbo Tiger Prawns? \nWe have some new menu items we are featuring as well!  Try our new “Ghost Burger\,” Ahi Tuna Poke\, or Clams Linguine – you’ll be glad you did! \nAfter dinner\, savor a drink in our world famous bar\, as frequented by Mark Twain back in the day! \nCall for reservations!  775-847-0111 \nOr email Patrick McNamee at: pat@gold-hill-hotel-saloon-b49f0b.ingress-baronn.ewp.live \n** We just need your name\, number of people in your party\, and the time you would like to dine! **
URL:https://goldhillhotel.net/event/enjoy-a-romantic-evening-guitarist-jack-di-carlo-performing-tonight-2018-10-26/2018-11-09/
CATEGORIES:Friday night acoustic guitar music
END:VEVENT
BEGIN:VEVENT
DTSTART;TZID=UTC:20181110T170000
DTEND;TZID=UTC:20181110T210000
DTSTAMP:20260420T003431
CREATED:20181006T013152Z
LAST-MODIFIED:20181110T020231Z
UID:10000881-1541869200-1541883600@goldhillhotel.net
SUMMARY:Dance Party with Squeek and Lolli!  Sold Out!!
DESCRIPTION:Saturday\, November 10th from 7 to 9 p.m. \n  \n** WE ARE SOLD OUT FOR THIS EVENT!  WE HAVE SIGNED UP ALL THE PEOPLE WE CAN FIT INTO OUR GREAT ROOM ** \n  \nFeaturing Fiddle stomping Americana music – waltzes\, two-steps\, foxtrots\, & polkas!” \nBring your dancing shoes!   \nDinner from 5 to 7 p.m.  Show starts at 7 p.m. \n  \n 
URL:https://goldhillhotel.net/event/dance-party-with-squeek-and-lolli/
CATEGORIES:Saturday night concert series
END:VEVENT
BEGIN:VEVENT
DTSTART;TZID=UTC:20181115T170000
DTEND;TZID=UTC:20181115T203000
DTSTAMP:20260420T003431
CREATED:20181102T003304Z
LAST-MODIFIED:20181102T003304Z
UID:10000756-1542301200-1542313800@goldhillhotel.net
SUMMARY:Lecture Series Continues!  "The Great Flume Ride" by Tony Ilradi
DESCRIPTION:We are pleased to continue our 2018 Lecture Series with the Comstock Foundation for History and Culture! \nThursday\, November 15th lecture will be Tony Ilradi on:  “The Great Flume Ride”\n \nDinner starts at 5:00 p.m. and lecture starts at 7:00 p.m. \nIn 1875\, an East Coast newspaperman was treated to the trip of a lifetime. H.J. Ramsdell\, a New York Tribune reporter\, was assigned to Virginia City to report on the Comstock. He got more of a story than he bargained for. \nWhile touring the various mining works\, mining magnate John Mackay suggested Ramsdell visit to his company’s flume. Two days later\, Ramsdell met with Mackay’s partners\, James Fair and James Flood\, in Virginia City. Joining them on the trip was John Hereford\, the contractor who built the big flume. Flood and Fair challenged Ramsdell to join them for a ride down the flume by hog trough. Hog troughs were crude boats\, V-shaped like the flume and 16 feet long. The 200-pound reporter could not believe what he was hearing\, but he thought\, “If men worth 25 to 30 million dollars apiece could afford to risk their lives\, I could afford to risk mine which is not worth half as much.” For a bit of comfort\, two small boards were installed as seats. \nOne experienced flume shooter warned\, “A flume has no element of safety. You cannot stop\, you cannot lessen your speed; you have only to sit still\, shut your eyes\, say your prayers\, take all the water that comes…and wait for eternity.” \nReporter Ramsdell was able to write a good story\, but his main satisfaction came from the fact that his wealthy hosts were so battered and sore\, they could not get out of bed the next day. \nBio: \nTony Ilradi is a historian\, lecturer\, cowboy poet\, musician who has entertained folks across the nation for over 25 years. And\, a former employee of Sierra Pacific Power / NV Energy before that. \nLecture starts at 7:00 p.m. and costs $5 per person. \nCome early and enjoy dinner before the lecture! We Serve dinner before the lecture at 5\, 5:30\, & 6 p.m. \nPlease fill out this reservation form to sign up for this exciting lecture: \n \n\n\n\n\n\n\n\nName:\n\n\n\nEmail Address:\n\n\n\nDinner and Lecture or Lecture only?\n Dinner and Lecture\n Lecture only\n\n\nHow many in your party?\n\n\n\nIf you are coming to the dinner and Lecture\, what time would you like to dine with us?\n 5:00 p.m.\n 5:30 p.m.\n 6:00 p.m.
URL:https://goldhillhotel.net/event/lecture-series-continues-the-great-flume-ride-by-tony-ilradi/
CATEGORIES:Thursday Night Lecture
END:VEVENT
BEGIN:VEVENT
DTSTART;TZID=UTC:20181116T173000
DTEND;TZID=UTC:20181116T200000
DTSTAMP:20260420T003431
CREATED:20180905T041440Z
LAST-MODIFIED:20181102T004258Z
UID:10000869-1542389400-1542398400@goldhillhotel.net
SUMMARY:Enjoy a romantic evening! Guitarist Jack Di Carlo performing tonight!
DESCRIPTION:We will be featuring the romantic acoustic guitar stylings of Jack Di Carlo in our main dining room this evening from 5:30 to 8 p.m. \nTake your special someone out to dinner tonight and enjoy this romantic music. \nTry our Certified Angus 12 oz. Rib-Eye special topped with Blue Cheese and Mushroom Demi glace.  Or how about fresh Atlantic Salmon or Shrimp Scampi featuring Jumbo Tiger Prawns? \nWe have some new menu items we are featuring as well!  Try our new “Ghost Burger\,” Ahi Tuna Poke\, or Clams Linguine – you’ll be glad you did! \nAfter dinner\, savor a drink in our world famous bar\, as frequented by Mark Twain back in the day! \nCall for reservations!  775-847-0111 \nOr email Patrick McNamee at: pat@gold-hill-hotel-saloon-b49f0b.ingress-baronn.ewp.live \n** We just need your name\, number of people in your party\, and the time you would like to dine! **
URL:https://goldhillhotel.net/event/enjoy-a-romantic-evening-guitarist-jack-di-carlo-performing-tonight-2018-10-26/2018-11-16/
CATEGORIES:Friday night acoustic guitar music
END:VEVENT
BEGIN:VEVENT
DTSTART;TZID=UTC:20181122T163000
DTEND;TZID=UTC:20181122T203000
DTSTAMP:20260420T003431
CREATED:20180818T004830Z
LAST-MODIFIED:20180818T004830Z
UID:10000853-1542904200-1542918600@goldhillhotel.net
SUMMARY:Restaurant and Bar - Closed for Thanksgiving - Hotel is still open
DESCRIPTION:Our restaurant and bar will be closed this evening in honor of Thanksgiving. \nWe will be celebrating with family this evening. \n** Please note the hotel is open for business this day and every day! ** \nThank you for your understanding! \n\nThe Management
URL:https://goldhillhotel.net/event/restaurant-and-bar-closed-for-thanksgiving-hotel-is-still-open/
END:VEVENT
BEGIN:VEVENT
DTSTART;TZID=UTC:20181123T173000
DTEND;TZID=UTC:20181123T200000
DTSTAMP:20260420T003431
CREATED:20180905T041440Z
LAST-MODIFIED:20181102T004258Z
UID:10000870-1542994200-1543003200@goldhillhotel.net
SUMMARY:Enjoy a romantic evening! Guitarist Jack Di Carlo performing tonight!
DESCRIPTION:We will be featuring the romantic acoustic guitar stylings of Jack Di Carlo in our main dining room this evening from 5:30 to 8 p.m. \nTake your special someone out to dinner tonight and enjoy this romantic music. \nTry our Certified Angus 12 oz. Rib-Eye special topped with Blue Cheese and Mushroom Demi glace.  Or how about fresh Atlantic Salmon or Shrimp Scampi featuring Jumbo Tiger Prawns? \nWe have some new menu items we are featuring as well!  Try our new “Ghost Burger\,” Ahi Tuna Poke\, or Clams Linguine – you’ll be glad you did! \nAfter dinner\, savor a drink in our world famous bar\, as frequented by Mark Twain back in the day! \nCall for reservations!  775-847-0111 \nOr email Patrick McNamee at: pat@gold-hill-hotel-saloon-b49f0b.ingress-baronn.ewp.live \n** We just need your name\, number of people in your party\, and the time you would like to dine! **
URL:https://goldhillhotel.net/event/enjoy-a-romantic-evening-guitarist-jack-di-carlo-performing-tonight-2018-10-26/2018-11-23/
CATEGORIES:Friday night acoustic guitar music
END:VEVENT
BEGIN:VEVENT
DTSTART;TZID=UTC:20181129T170000
DTEND;TZID=UTC:20181129T203000
DTSTAMP:20260420T003431
CREATED:20181112T072408Z
LAST-MODIFIED:20181129T065654Z
UID:10000757-1543510800-1543523400@goldhillhotel.net
SUMMARY:Final Lecture of the Season!  Gregory Crouch with "The Bonanza King" - John Mackay - Sold Out!
DESCRIPTION:This will be the final lecture of the 2018 Season with the Comstock Foundation for History and Culture! \nThursday\, November 29th lecture will be Gregory Crouch with:  “The Bonanza King” – John Mackay\n \n  \n** This lecture is sold out!  Sorry\, we cannot take anymore reservations ** \n  \nDinner starts at 5:00 p.m. and lecture starts at 7:00 p.m. \nIn his talk\, Gregory Crouch will discuss local-legend John Mackay\, who got his start in the United States as a destitute Irish immigrant brought here when he was 9 years old. Mackay grew up in New York City’s Five Points slum (“The Gangs of New York neighborhood)\, came of age amid the violent mayhem of the California Gold Rush\, and rose to the full power of his manhood in the deep\, rich\, and outrageously dangerous mines of the Comstock Lode beneath Virginia City and Gold Hill\, Nevada\, the ultimate Old West boomtowns. \nOn the Comstock\, Mackay worked his way up from nothing\, battling the pernicious “Bank Ring” of California capitalists who’d monopolized the lode\, and struck the legendary Big Bonanza\, a stupendously valuable body of gold and silver ore buried 1\,500 feet below the center of the town. \nThe extraordinary wealth Mackay extracted from the Comstock Lode drove wild stock market frenzies in San Francisco and launched his wife\, whose beginnings were every bit as humble as his own\, on a meteoric social career among the finest European aristocrats. When John Mackay died in 1902—with a personal fortune equivalent to about $50 billion modern dollars—front page obituaries all over Europe and the United States hailed him as one of the most admired Americans of the age. \nSpeaker/ Bio:  Gregory Crouch is an author who specializes in adventurous and historic subjects. He has five major books in publication. \nHe has published stores in The Atlantic\, National Geographic\, National Geographic Adventure\, Smithsonian\, Time\, American History\, World War II\, Islands\, Outside\, Popular Mechanics\, Backpacker\, and many other national and regional media\, and dozens of adventure stories for Rock & Ice\, Ascent\, Alpinist\, and Climbing. \nIn 1988\, Gregory Crouch graduated from the United States Military Academy at West Point\, New York\, where he studied military history. \nHe lives in Walnut Creek\, in the San Francisco Bay Area of California.
URL:https://goldhillhotel.net/event/final-lecture-of-the-season-gregory-crouch-with-the-bonanza-king-john-mackay/
CATEGORIES:Thursday Night Lecture
END:VEVENT
BEGIN:VEVENT
DTSTART;TZID=UTC:20181130T173000
DTEND;TZID=UTC:20181130T200000
DTSTAMP:20260420T003431
CREATED:20180905T041440Z
LAST-MODIFIED:20181102T004258Z
UID:10000871-1543599000-1543608000@goldhillhotel.net
SUMMARY:Enjoy a romantic evening! Guitarist Jack Di Carlo performing tonight!
DESCRIPTION:We will be featuring the romantic acoustic guitar stylings of Jack Di Carlo in our main dining room this evening from 5:30 to 8 p.m. \nTake your special someone out to dinner tonight and enjoy this romantic music. \nTry our Certified Angus 12 oz. Rib-Eye special topped with Blue Cheese and Mushroom Demi glace.  Or how about fresh Atlantic Salmon or Shrimp Scampi featuring Jumbo Tiger Prawns? \nWe have some new menu items we are featuring as well!  Try our new “Ghost Burger\,” Ahi Tuna Poke\, or Clams Linguine – you’ll be glad you did! \nAfter dinner\, savor a drink in our world famous bar\, as frequented by Mark Twain back in the day! \nCall for reservations!  775-847-0111 \nOr email Patrick McNamee at: pat@gold-hill-hotel-saloon-b49f0b.ingress-baronn.ewp.live \n** We just need your name\, number of people in your party\, and the time you would like to dine! **
URL:https://goldhillhotel.net/event/enjoy-a-romantic-evening-guitarist-jack-di-carlo-performing-tonight-2018-10-26/2018-11-30/
CATEGORIES:Friday night acoustic guitar music
END:VEVENT
END:VCALENDAR