BEGIN:VCALENDAR
VERSION:2.0
PRODID:-//Gold Hill Hotel &amp; Saloon - ECPv6.15.20//NONSGML v1.0//EN
CALSCALE:GREGORIAN
METHOD:PUBLISH
X-WR-CALNAME:Gold Hill Hotel &amp; Saloon
X-ORIGINAL-URL:https://goldhillhotel.net
X-WR-CALDESC:Events for Gold Hill Hotel &amp; Saloon
REFRESH-INTERVAL;VALUE=DURATION:PT1H
X-Robots-Tag:noindex
X-PUBLISHED-TTL:PT1H
BEGIN:VTIMEZONE
TZID:UTC
BEGIN:STANDARD
TZOFFSETFROM:+0000
TZOFFSETTO:+0000
TZNAME:UTC
DTSTART:20170101T000000
END:STANDARD
END:VTIMEZONE
BEGIN:VEVENT
DTSTART;TZID=UTC:20181004T170000
DTEND;TZID=UTC:20181004T203000
DTSTAMP:20260421T142626
CREATED:20180926T005217Z
LAST-MODIFIED:20180926T005346Z
UID:10000879-1538672400-1538685000@goldhillhotel.net
SUMMARY:Lecture series continues!  Cliff Jennings with "Mysteries of the Hale & Norcross Mine: Waste Trestles\, Bins & Dumps"
DESCRIPTION:We are pleased to continue our 2018 Lecture Series with the Comstock Foundation for History and Culture! \nThursday\, October 4th lecture will be Cliff Jennings on:  “Mysteries of the Hale & Norcross Mine: Waste Trestles\, Bins & Dumps”\nA Story of Site Observations\, Model Making and Comstock-V&T History\n \nDinner starts at 5:00 p.m. and lecture starts at 7:00 p.m. \nLecture Description:\nIn its heyday\, the Comstock’s major mines were visually dominant and architecturally striking. But when one attempts to make a scale model of one\, questions emerge that drives one to research. Archival photos and drawings are crucial\, and site investigations gives clarity. But once in a while\, one ends up with a bigger stack of questions then at the start. \nThis is a story of one such mine\, and the attempt to research and model it: The Hale & Norcross\, ca. 1890. It is also a story of observations on the ground and from the air; over the Internet and via email. All will help in understanding the structure and making a model of them. And during the process\, a story will emerge of a mysterious little shed whose remains still reside on an man-made hilltop in Virginia City\, Nevada. \nLecturer Bio: \nCliff Jennings is a mechanical designer living in Maryland. Raised in California and about ten years ago\, his interest returned to Comstock mining and the V&T Railroad. His hobby has become his passion with a mix of model railroading\, V&T history and the research and modeling of Comtock mines in their prime. \nLecture starts at 7:00 p.m. and costs $5 per person. \nCome early and enjoy dinner before the lecture! We Serve dinner before the lecture at 5\, 5:30\, & 6 p.m. \nPlease fill out this reservation form to sign up for this exciting lecture: \n\n \n\n\n\n\n\n\n\nName:\n\n\n\nEmail Address:\n\n\n\nDinner and Lecture or Lecture only?\n Dinner and Lecture\n Lecture only\n\n\nHow many in your party?\n\n\n\nIf you are coming to the dinner and lecture\, what time would you like to dine with us?\n 5:00 p.m.\n 5:30 p.m.\n 6:00 p.m.
URL:https://goldhillhotel.net/event/lecture-series-continues-cliff-jennings-with-mysteries-of-the-hale-norcross-mine-waste-trestles-bins-dumps/
CATEGORIES:Thursday Night Lecture
END:VEVENT
BEGIN:VEVENT
DTSTART;TZID=UTC:20181011T170000
DTEND;TZID=UTC:20181011T203000
DTSTAMP:20260421T142626
CREATED:20180913T014614Z
LAST-MODIFIED:20180913T014709Z
UID:10000873-1539277200-1539289800@goldhillhotel.net
SUMMARY:Ghost Tour tonight at the Gold Hill Hotel!
DESCRIPTION:The Gold Hill Hotel (as seen on Ghost Adventures and proclaimed the 8th most haunted location in Nevada) is now offering Historical Ghost Tours on the 2nd and 4th Thursday of each month. October 11th is tonight’s tour!  These tours benefit The Comstock Foundation for History and Culture.  Hosted by the Northern Nevada Ghost Hunters (NNGH)\, your evening will start with a gourmet dinner in the Crown Point restaurant (one of the best restaurants on the Comstock). \nAfter dinner\, NNGH will guide you back in time with tales of the history and the hauntings of the hotel and the surrounding area\, known as Slippery Gulch. Using ghost hunting tools and techniques\, you can try to make contact with the spirits still in residence at the hotel. Please note that you will be touring some of the actual haunted rooms in the hotel as well! \nAfterwards\, quench your thirst or calm your nerves with a drink in the 150 year old bar\, as frequented by Mark Twain back in the day!  This is sure to be an evening to remember. Come join us! \nDinner and Tour – only $40.00 per person. \nDinner is at 5:00\, 5:30 or 6:00 p.m. and the tour starts at 7:00 p.m. \nDinner is a set menu of 4 of our favorite entrees we offer at the hotel! Miner’s Tri-Tip\, Fresh Atlantic Salmon\, Crown Point Chicken\, & Spinach Ravioli\n** Discount offered for Hotel Guests spending the night with us! Dinner and Tour for only $35.00 ** \nTour only – $25 per person. Guest of hotel – $20\nTour starts at 7:00 p.m. \nUse this form to sign up for this exciting evening! – – \n \n\n\n\n\n\n\n\nName:\n\n\n\nEmail Address:\n\n\n\nGhost Tour and Dinner for $40 and Ghost Tour only for $25\n Ghost Tour and Dinner for $40\n Ghost Tour only for $25\n\n\nHow many in your party?\n\n\n\nIf you are having dinner with us\, what time would you like to dine?\n 5:00 p.m.\n 5:30 p.m.\n 6:00 p.m.
URL:https://goldhillhotel.net/event/ghost-tour-tonight-at-the-gold-hill-hotel-11/
CATEGORIES:Ghost Tour
END:VEVENT
BEGIN:VEVENT
DTSTART;TZID=UTC:20181012T173000
DTEND;TZID=UTC:20181012T200000
DTSTAMP:20260421T142626
CREATED:20180905T041440Z
LAST-MODIFIED:20180905T041550Z
UID:10000864-1539365400-1539374400@goldhillhotel.net
SUMMARY:Enjoy a romantic evening! Guitarist Jack Di Carlo performing tonight!
DESCRIPTION:We will be featuring the romantic acoustic guitar stylings of Jack Di Carlo in our main dining room this evening from 5:30 to 8 p.m. \nTake your special someone out to dinner tonight and enjoy this romantic music. \nTry our Certified Angus 12 oz. Rib-Eye special topped with Blue Cheese and Mushroom Demi glace.  Or how about fresh Atlantic Salmon or Shrimp Scampi featuring Jumbo Tiger Prawns? \nWe have some new menu items we are featuring as well!  Try our new “Ghost Burger\,” Ahi Tuna Poke\, or Clams Linguine – you’ll be glad you did! \nAfter dinner\, savor a drink in our world famous bar\, as frequented by Mark Twain back in the day! \nCall for reservations!  775-847-0111 \nOr email Patrick McNamee at: pat@gold-hill-hotel-saloon-b49f0b.ingress-baronn.ewp.live \n** We just need your name\, number of people in your party\, and the time you would like to dine! **
URL:https://goldhillhotel.net/event/enjoy-a-romantic-evening-guitarist-jack-di-carlo-performing-tonight/2018-10-12/
CATEGORIES:Friday night acoustic guitar music
END:VEVENT
BEGIN:VEVENT
DTSTART;TZID=UTC:20181014T163000
DTEND;TZID=UTC:20181014T203000
DTSTAMP:20260421T142626
CREATED:20181015T033430Z
LAST-MODIFIED:20181015T033430Z
UID:10000886-1539534600-1539549000@goldhillhotel.net
SUMMARY:Restaurant and Bar closed for Private event tonight - except for prior reservations for dinner
DESCRIPTION:Please note that the restaurant and bar will be closed for a private event tonight.  Except for prior reservations for dinner. \nWe are sorry for the inconvenience. \n\nThe Management
URL:https://goldhillhotel.net/event/restaurant-and-bar-closed-for-private-event-tonight-except-for-prior-reservations-for-dinner/
CATEGORIES:Event
END:VEVENT
BEGIN:VEVENT
DTSTART;TZID=UTC:20181018T170000
DTEND;TZID=UTC:20181018T203000
DTSTAMP:20260421T142626
CREATED:20181011T014159Z
LAST-MODIFIED:20181015T001526Z
UID:10000885-1539882000-1539894600@goldhillhotel.net
SUMMARY:Lecture series continues! Larry Martin with “Gold is where you find it\, or not”
DESCRIPTION:We are pleased to continue our 2018 Lecture Series with the Comstock Foundation for History and Culture! \nThursday\, October 18th lecture will be Larry Martin on:  Metal Detectors\, Visual Observation\, Buried Treasure and “Gold is where you find it\, or not”\n \nDinner starts at 5:00 p.m. and lecture starts at 7:00 p.m. \nThis fascinating lecture will discuss and demonstrate how to visually identify gold and silver on the surface of the ground and better yet how to find it with a metal detector. \nI think we all agree on one thing with regards to digging for gold and treasure – finding it quickly & regularly isn’t possible without the best gold detector. There’s no two-ways about it\, investing in a less than adequate device simply isn’t going to work and will likely end in nothing more than sheer frustration. \nLarry’s lecture and demonstration is to ease the burden for budding newbies and also the more experienced who are interested in improving their chances of finding gold. \nVarious metal detectors will be demonstrated at the lecture.  Bring your detectors to the lecture and let’s have some fun testing them out. \nBio: \nLarry Martin – Currently:  Director of Exploration and Chief Geologist Comstock Mining Inc\, Virginia City\, NV \nBorn and raised in northwest Kansas.  Graduated Colorado School of Mines:  BSc. Geologic Engineering & minor in Mining Engineering \nCertified Professional Geologist / American Institute of Professional Geologist \n39 years professional experience in mining or related geological and engineering disciplines.  Assigned to several Nevada mines ranging from early grass root exploration\, to development and expansion phases:   Borealis\, Manhattan\, Hog Ranch\, Olinghouse\, Granstville\, Rawhide\, Sleeper\, Comstock \nLecture starts at 7:00 p.m. and costs $5 per person. \nCome early and enjoy dinner before the lecture! We Serve dinner before the lecture at 5\, 5:30\, & 6 p.m. \nPlease fill out this reservation form to sign up for this exciting lecture: \n\n \n\n\n\n\n\n\n\nName:\n\n\n\nEmail Address:\n\n\n\nDinner and Lecture or Lecture only?\n Dinner and Lecture\n Lecture only\n\n\nHow many in your party?\n\n\n\nIf you are coming to the dinner and Lecture\, what time would you like to dine with us?\n 5:00 p.m.\n 5:30 p.m.\n 6:00 p.m.\n\n\n\n\n\n\n\n 
URL:https://goldhillhotel.net/event/lecture-series-continues-larry-martin-with-metal-detectors-visual-observation-buried-treasure-and-gold-is-where-you-find-it-or-not/
CATEGORIES:Thursday Night Lecture
END:VEVENT
BEGIN:VEVENT
DTSTART;TZID=UTC:20181019T173000
DTEND;TZID=UTC:20181019T200000
DTSTAMP:20260421T142626
CREATED:20180905T041440Z
LAST-MODIFIED:20180905T041550Z
UID:10000865-1539970200-1539979200@goldhillhotel.net
SUMMARY:Enjoy a romantic evening! Guitarist Jack Di Carlo performing tonight!
DESCRIPTION:We will be featuring the romantic acoustic guitar stylings of Jack Di Carlo in our main dining room this evening from 5:30 to 8 p.m. \nTake your special someone out to dinner tonight and enjoy this romantic music. \nTry our Certified Angus 12 oz. Rib-Eye special topped with Blue Cheese and Mushroom Demi glace.  Or how about fresh Atlantic Salmon or Shrimp Scampi featuring Jumbo Tiger Prawns? \nWe have some new menu items we are featuring as well!  Try our new “Ghost Burger\,” Ahi Tuna Poke\, or Clams Linguine – you’ll be glad you did! \nAfter dinner\, savor a drink in our world famous bar\, as frequented by Mark Twain back in the day! \nCall for reservations!  775-847-0111 \nOr email Patrick McNamee at: pat@gold-hill-hotel-saloon-b49f0b.ingress-baronn.ewp.live \n** We just need your name\, number of people in your party\, and the time you would like to dine! **
URL:https://goldhillhotel.net/event/enjoy-a-romantic-evening-guitarist-jack-di-carlo-performing-tonight/2018-10-19/
CATEGORIES:Friday night acoustic guitar music
END:VEVENT
BEGIN:VEVENT
DTSTART;TZID=UTC:20181022T170000
DTEND;TZID=UTC:20181022T203000
DTSTAMP:20260421T142626
CREATED:20180918T004412Z
LAST-MODIFIED:20180918T004525Z
UID:10000876-1540227600-1540240200@goldhillhotel.net
SUMMARY:Halloween Ghost Tour tonight at the Gold Hill Hotel!
DESCRIPTION:The Gold Hill Hotel (as seen on Ghost Adventures and proclaimed the 8th most haunted location in Nevada) is offering Halloween Ghost Tours during the month of October!  October 22nd is tonight’s tour!  These tours benefit The Comstock Foundation for History and Culture.  Hosted by the Northern Nevada Ghost Hunters (NNGH)\, your evening will start with a gourmet dinner in the Crown Point restaurant (one of the best restaurants on the Comstock). \nAfter dinner\, NNGH will guide you back in time with tales of the history and the hauntings of the hotel and the surrounding area\, known as Slippery Gulch. Using ghost hunting tools and techniques\, you can try to make contact with the spirits still in residence at the hotel. Please note that you will be touring some of the actual haunted rooms in the hotel as well! \nAfterwards\, quench your thirst or calm your nerves with a drink in the 150 year old bar\, as frequented by Mark Twain back in the day!  This is sure to be an evening to remember. Come join us! \nDinner and Tour – only $40.00 per person. \nDinner is at 5:00\, 5:30 or 6:00 p.m. and the tour starts at 7:00 p.m. \nDinner is a set menu of 4 of our favorite entrees we offer at the hotel! Miner’s Tri-Tip\, Fresh Atlantic Salmon\, Crown Point Chicken\, & Spinach Ravioli\n** Discount offered for Hotel Guests spending the night with us! Dinner and Tour for only $35.00 ** \nTour only – $25 per person. Guest of hotel – $20\nTour starts at 7:00 p.m. \nUse this form to sign up for this exciting evening! – – \n \n\n\n\n\n\n\n\nName:\n\n\n\nEmail Address:\n\n\n\nGhost Tour and Dinner for $40 and Ghost Tour only for $25\n Ghost Tour and Dinner for $40\n Ghost Tour only for $25\n\n\nHow many in your party?\n\n\n\nIf you are having dinner with us\, what time would you like to dine?\n 5:00 p.m.\n 5:30 p.m.\n 6:00 p.m.
URL:https://goldhillhotel.net/event/halloween-ghost-tour-tonight-at-the-gold-hill-hotel/
CATEGORIES:Ghost Tour
END:VEVENT
BEGIN:VEVENT
DTSTART;TZID=UTC:20181025T170000
DTEND;TZID=UTC:20181025T203000
DTSTAMP:20260421T142626
CREATED:20180913T015600Z
LAST-MODIFIED:20181024T002724Z
UID:10000874-1540486800-1540499400@goldhillhotel.net
SUMMARY:Ghost Tour at the Gold Hill Hotel!  Sold out tonight!!
DESCRIPTION:** Sorry!  The Ghost Tour is all sold out tonight!  Please follow this link to sign up for the next Ghost Tour on Monday\, October 29th!! \nhttps://goldhillhotel.net/event/halloween-ghost-tour-at-the-gold-hill-hotel-tonight/ \n  \nThe Gold Hill Hotel (as seen on Ghost Adventures and proclaimed the 8th most haunted location in Nevada) is now offering Historical Ghost Tours on the 2nd and 4th Thursday of each month. October 25th is tonight’s SOLD OUT tour!  These tours benefit The Comstock Foundation for History and Culture.  Hosted by the Northern Nevada Ghost Hunters (NNGH)\, your evening will start with a gourmet dinner in the Crown Point restaurant (one of the best restaurants on the Comstock). \nAfter dinner\, NNGH will guide you back in time with tales of the history and the hauntings of the hotel and the surrounding area\, known as Slippery Gulch. Using ghost hunting tools and techniques\, you can try to make contact with the spirits still in residence at the hotel. Please note that you will be touring some of the actual haunted rooms in the hotel as well! \nAfterwards\, quench your thirst or calm your nerves with a drink in the 150 year old bar\, as frequented by Mark Twain back in the day!  This is sure to be an evening to remember. Come join us!
URL:https://goldhillhotel.net/event/ghost-tour-tonight-at-the-gold-hill-hotel-12/
CATEGORIES:Ghost Tour
END:VEVENT
BEGIN:VEVENT
DTSTART;TZID=UTC:20181026T170000
DTEND;TZID=UTC:20181026T233000
DTSTAMP:20260421T142626
CREATED:20180913T020459Z
LAST-MODIFIED:20180913T020459Z
UID:10000875-1540573200-1540596600@goldhillhotel.net
SUMMARY:Who's ready for A Haunting on the Comstock Hills\, a benefit for The Comstock Foundation for History and Culture?
DESCRIPTION:Save the dates 10/26 – 10/27\n\nGold Hill Hotel\n\nFriday Night Gathering & Seance\nSaturday night multiple locations after hours investigations of the Hill and the Mills.\nGuest Star Investigators include Douglas M. Carnahan\, Stefan Brigati\,\nDavid Deerfeeder and the NNGH Team\nalong with other highlights soon to be mentioned.\nLimited tickets being sold\n\n\n\n\n** Please see the Northern Nevada Ghost Hunters web site for details and to sign up!\nhttp://nngh.net/
URL:https://goldhillhotel.net/event/whos-ready-for-a-haunting-on-the-comstock-hills-a-benefit-for-the-comstock-foundation-for-history-and-culture/
CATEGORIES:Ghost Tour
END:VEVENT
BEGIN:VEVENT
DTSTART;TZID=UTC:20181026T173000
DTEND;TZID=UTC:20181026T200000
DTSTAMP:20260421T142626
CREATED:20180905T041440Z
LAST-MODIFIED:20180905T041550Z
UID:10000866-1540575000-1540584000@goldhillhotel.net
SUMMARY:Enjoy a romantic evening! Guitarist Jack Di Carlo performing tonight!
DESCRIPTION:We will be featuring the romantic acoustic guitar stylings of Jack Di Carlo in our main dining room this evening from 5:30 to 8 p.m. \nTake your special someone out to dinner tonight and enjoy this romantic music. \nTry our Certified Angus 12 oz. Rib-Eye special topped with Blue Cheese and Mushroom Demi glace.  Or how about fresh Atlantic Salmon or Shrimp Scampi featuring Jumbo Tiger Prawns? \nWe have some new menu items we are featuring as well!  Try our new “Ghost Burger\,” Ahi Tuna Poke\, or Clams Linguine – you’ll be glad you did! \nAfter dinner\, savor a drink in our world famous bar\, as frequented by Mark Twain back in the day! \nCall for reservations!  775-847-0111 \nOr email Patrick McNamee at: pat@gold-hill-hotel-saloon-b49f0b.ingress-baronn.ewp.live \n** We just need your name\, number of people in your party\, and the time you would like to dine! **
URL:https://goldhillhotel.net/event/enjoy-a-romantic-evening-guitarist-jack-di-carlo-performing-tonight/2018-10-26/
CATEGORIES:Friday night acoustic guitar music
END:VEVENT
BEGIN:VEVENT
DTSTART;TZID=UTC:20181029T170000
DTEND;TZID=UTC:20181029T203000
DTSTAMP:20260421T142626
CREATED:20180918T005045Z
LAST-MODIFIED:20180918T005045Z
UID:10000877-1540832400-1540845000@goldhillhotel.net
SUMMARY:Halloween Ghost Tour at the Gold Hill Hotel tonight!
DESCRIPTION:The Gold Hill Hotel (as seen on Ghost Adventures and proclaimed the 8th most haunted location in Nevada) is offering Halloween Ghost Tours during the month of October!  October 29th is tonight’s tour!  These tours benefit The Comstock Foundation for History and Culture.  Hosted by the Northern Nevada Ghost Hunters (NNGH)\, your evening will start with a gourmet dinner in the Crown Point restaurant (one of the best restaurants on the Comstock). \nAfter dinner\, NNGH will guide you back in time with tales of the history and the hauntings of the hotel and the surrounding area\, known as Slippery Gulch. Using ghost hunting tools and techniques\, you can try to make contact with the spirits still in residence at the hotel. Please note that you will be touring some of the actual haunted rooms in the hotel as well! \nAfterwards\, quench your thirst or calm your nerves with a drink in the 150 year old bar\, as frequented by Mark Twain back in the day!  This is sure to be an evening to remember. Come join us! \nDinner and Tour – only $40.00 per person. \nDinner is at 5:00\, 5:30 or 6:00 p.m. and the tour starts at 7:00 p.m. \nDinner is a set menu of 4 of our favorite entrees we offer at the hotel! Miner’s Tri-Tip\, Fresh Atlantic Salmon\, Crown Point Chicken\, & Spinach Ravioli\n** Discount offered for Hotel Guests spending the night with us! Dinner and Tour for only $35.00 ** \nTour only – $25 per person. Guest of hotel – $20\nTour starts at 7:00 p.m. \nUse this form to sign up for this exciting evening! – – \n \n\n\n\n\n\n\n\nName:\n\n\n\nEmail Address:\n\n\n\nGhost Tour and Dinner for $40 and Ghost Tour only for $25\n Ghost Tour and Dinner for $40\n Ghost Tour only for $25\n\n\nHow many in your party?\n\n\n\nIf you are having dinner with us\, what time would you like to dine?\n 5:00 p.m.\n 5:30 p.m.\n 6:00 p.m.
URL:https://goldhillhotel.net/event/halloween-ghost-tour-at-the-gold-hill-hotel-tonight/
CATEGORIES:Ghost Tour
END:VEVENT
BEGIN:VEVENT
DTSTART;TZID=UTC:20181031T163000
DTEND;TZID=UTC:20181031T203000
DTSTAMP:20260421T142626
CREATED:20181007T004327Z
LAST-MODIFIED:20181007T004327Z
UID:10000883-1541003400-1541017800@goldhillhotel.net
SUMMARY:Closed for Halloween - Because we are usually closed on Wednesday
DESCRIPTION:Please note that we will be closed on Halloween.  This is because the restaurant and bar is typically closed on Wednesday anyway. \nWe just wanted to post this on our web site calendar just so people will know we are not doing anything special for Halloween this year. \n\nThe Management
URL:https://goldhillhotel.net/event/closed-for-halloween-because-we-are-usually-closed-on-wednesday/
END:VEVENT
END:VCALENDAR