BEGIN:VCALENDAR
VERSION:2.0
PRODID:-//Gold Hill Hotel &amp; Saloon - ECPv6.15.20//NONSGML v1.0//EN
CALSCALE:GREGORIAN
METHOD:PUBLISH
X-WR-CALNAME:Gold Hill Hotel &amp; Saloon
X-ORIGINAL-URL:https://goldhillhotel.net
X-WR-CALDESC:Events for Gold Hill Hotel &amp; Saloon
REFRESH-INTERVAL;VALUE=DURATION:PT1H
X-Robots-Tag:noindex
X-PUBLISHED-TTL:PT1H
BEGIN:VTIMEZONE
TZID:UTC
BEGIN:STANDARD
TZOFFSETFROM:+0000
TZOFFSETTO:+0000
TZNAME:UTC
DTSTART:20240101T000000
END:STANDARD
END:VTIMEZONE
BEGIN:VEVENT
DTSTART;TZID=UTC:20251011T120000
DTEND;TZID=UTC:20251011T150000
DTSTAMP:20260425T070502
CREATED:20250923T040148Z
LAST-MODIFIED:20250923T040333Z
UID:10001399-1760184000-1760194800@goldhillhotel.net
SUMMARY:Restaurant closed for private event from noon to 3:00 p.m.  Open to the public from 3:00 to 8:30 p.m.
DESCRIPTION:Hello\, \nOur restaurant and Saloon will be closed for a private event between noon and 3:00 p.m.  However\, we are accepting reservations for dinner from 3:00 to 8:30 p.m.  Call or text 775-847-0111 \nThe Saloon will also be open from 3 p.m. to 8:30 p.m. (or later\, if busy) \nThank you. \n\nThe Management\n\n 
URL:https://goldhillhotel.net/event/restaurant-closed/
END:VEVENT
END:VCALENDAR