BEGIN:VCALENDAR
VERSION:2.0
PRODID:-//Gold Hill Hotel &amp; Saloon - ECPv6.15.20//NONSGML v1.0//EN
CALSCALE:GREGORIAN
METHOD:PUBLISH
X-WR-CALNAME:Gold Hill Hotel &amp; Saloon
X-ORIGINAL-URL:https://goldhillhotel.net
X-WR-CALDESC:Events for Gold Hill Hotel &amp; Saloon
REFRESH-INTERVAL;VALUE=DURATION:PT1H
X-Robots-Tag:noindex
X-PUBLISHED-TTL:PT1H
BEGIN:VTIMEZONE
TZID:UTC
BEGIN:STANDARD
TZOFFSETFROM:+0000
TZOFFSETTO:+0000
TZNAME:UTC
DTSTART:20230101T000000
END:STANDARD
END:VTIMEZONE
BEGIN:VEVENT
DTSTART;VALUE=DATE:20241027
DTEND;VALUE=DATE:20241028
DTSTAMP:20260419T082723
CREATED:20200905T044345Z
LAST-MODIFIED:20241024T010156Z
UID:10000985-1729987200-1730073599@goldhillhotel.net
SUMMARY:Restaurant and Bar Closed for private event today!  Wedding at the hotel
DESCRIPTION:The Restaurant and Bar will be closed today Sunday 10/27 due to a private event at the hotel.  We are hosting a private wedding. \nSorry in advance and thank you for understanding!  We will be serving dinner Monday 10/28\, join us for miner’s Monday wing night! \n\nThe Management\n\n 
URL:https://goldhillhotel.net/event/restaurant-and-bar-closed-for-private-event-tonight-wedding-at-the-hotel/
END:VEVENT
END:VCALENDAR