BEGIN:VCALENDAR
VERSION:2.0
PRODID:-//Gold Hill Hotel &amp; Saloon - ECPv6.15.20//NONSGML v1.0//EN
CALSCALE:GREGORIAN
METHOD:PUBLISH
X-WR-CALNAME:Gold Hill Hotel &amp; Saloon
X-ORIGINAL-URL:https://goldhillhotel.net
X-WR-CALDESC:Events for Gold Hill Hotel &amp; Saloon
REFRESH-INTERVAL;VALUE=DURATION:PT1H
X-Robots-Tag:noindex
X-PUBLISHED-TTL:PT1H
BEGIN:VTIMEZONE
TZID:UTC
BEGIN:STANDARD
TZOFFSETFROM:+0000
TZOFFSETTO:+0000
TZNAME:UTC
DTSTART:20230101T000000
END:STANDARD
END:VTIMEZONE
BEGIN:VEVENT
DTSTART;TZID=UTC:20240818T160000
DTEND;TZID=UTC:20240818T183000
DTSTAMP:20260423T021048
CREATED:20230315T174714Z
LAST-MODIFIED:20240703T185549Z
UID:10001121-1723996800-1724005800@goldhillhotel.net
SUMMARY:The Gold Hill Hotel Summer "Back in Time" Wine Dinner!
DESCRIPTION:We are having a beautiful 5 course dinner and dessert with each course being masterfully paired with a variety of wines.  \nLet’s party like its 1899!  Menu will feature items that were considered delicacies for the period. Our guests are encouraged (but not required) to join in the fun and wear your best period clothes!  \nSeating is at 4:00 p.m. on August 18th at the Gold Hill Hotel and Crown Point Restaurant \nHosted by Wine Expert D. “Smitty” Smith of Regency Wines – “Worldwide Artisan Wines & Spirits” \n1st Course – Oysters on the Half Shell \nDomaine Petit Roubie\, Picpoul de Pinet\,2023\, Languedoc\, Franc \n2nd Course – Deviled Eggs \nCanard Vineyards Rose\, 2021\, Calistoga\, Napa \n3rd Course – Crab Puffs \nScarlett Vineyards\, Sauvignon Blanc\, 2019\, Rutherford\, Napa \n4th Course – Veal Cutlets with Rosemary Fingerling Potatoes \nMas de la Seranne\, Les Griottiers\, Languedoc\, 2022\, France \n5th Course  – Steak Pie with Seasonal Vegetables \nDomaine du Rochouard\, Cabernet Franc\, 2022\, Loire Valley\, France \n6th Course  – Pound Cake with Fresh Fruit and Whipped Cream \nMadrona Riesling\, 2021\, El Dorado County \nCOST IS $100.00 PER PERSON \n** Tax is included\, however please tip your server as gratuity is not included.  No refunds. \nTo sign up for this special event\, please click the get ticket button below and complete the form: \nGet Tickets
URL:https://goldhillhotel.net/event/the-gold-hill-hotel-summer-wine-dinner/
CATEGORIES:Event
END:VEVENT
END:VCALENDAR