BEGIN:VCALENDAR
VERSION:2.0
PRODID:-//Gold Hill Hotel &amp; Saloon - ECPv6.15.20//NONSGML v1.0//EN
CALSCALE:GREGORIAN
METHOD:PUBLISH
X-WR-CALNAME:Gold Hill Hotel &amp; Saloon
X-ORIGINAL-URL:https://goldhillhotel.net
X-WR-CALDESC:Events for Gold Hill Hotel &amp; Saloon
REFRESH-INTERVAL;VALUE=DURATION:PT1H
X-Robots-Tag:noindex
X-PUBLISHED-TTL:PT1H
BEGIN:VTIMEZONE
TZID:UTC
BEGIN:STANDARD
TZOFFSETFROM:+0000
TZOFFSETTO:+0000
TZNAME:UTC
DTSTART:20210101T000000
END:STANDARD
END:VTIMEZONE
BEGIN:VEVENT
DTSTART;TZID=UTC:20221023T090000
DTEND;TZID=UTC:20221023T140000
DTSTAMP:20260419T122230
CREATED:20210531T051140Z
LAST-MODIFIED:20220905T032512Z
UID:10001069-1666515600-1666533600@goldhillhotel.net
SUMMARY:Champagne Brunch
DESCRIPTION:***STARTING SUNDAY 9/11 WE WILL BE INTRODUCING A NEW BRUNCH/LUNCH MENU AND WILL BE DISCONTINUING OUR BUFFET*** \nWe are continuing our famous Champagne Sunday Brunch with a tailgate twist! From 9 a.m. to 1 p.m every Sunday throughout the fall and winter of 2022 we will offer a new Brunch/Lunch made to order menu! With the start of football season The Saloon will remain open while there are patrons enjoying the bar and the game\, but make sure to get your food orders in by 1pm.  With new items like an order of Authentic Buffalo Style Wings and Homemade Pizza Logs\, we have everything you need to enjoy the game! \nOur chef will also include many of our most popular brunch items on the menu. Come in for one of our famous V&T Bloody Mary’s\, and Eggs Rodeo (our twist on the Eggs Benedict) and Country Potatoes! Or add the “Bottomless” Champagne or Mimosa for $10! \nCall us to reserve your table – 775-847-0111
URL:https://goldhillhotel.net/event/champagne-brunch-2022-11-20/2022-10-23/
END:VEVENT
END:VCALENDAR