BEGIN:VCALENDAR
VERSION:2.0
PRODID:-//Gold Hill Hotel &amp; Saloon - ECPv6.15.20//NONSGML v1.0//EN
CALSCALE:GREGORIAN
METHOD:PUBLISH
X-WR-CALNAME:Gold Hill Hotel &amp; Saloon
X-ORIGINAL-URL:https://goldhillhotel.net
X-WR-CALDESC:Events for Gold Hill Hotel &amp; Saloon
REFRESH-INTERVAL;VALUE=DURATION:PT1H
X-Robots-Tag:noindex
X-PUBLISHED-TTL:PT1H
BEGIN:VTIMEZONE
TZID:UTC
BEGIN:STANDARD
TZOFFSETFROM:+0000
TZOFFSETTO:+0000
TZNAME:UTC
DTSTART:20170101T000000
END:STANDARD
END:VTIMEZONE
BEGIN:VEVENT
DTSTART;TZID=UTC:20181226T170000
DTEND;TZID=UTC:20181226T210000
DTSTAMP:20260425T040114
CREATED:20181006T062945Z
LAST-MODIFIED:20181012T052919Z
UID:10000882-1545843600-1545858000@goldhillhotel.net
SUMMARY:Christmas Parties at the Gold Hill Hotel!
DESCRIPTION:What is the famous Gold Hill Hotel all about?   \nCheck out this cool video about the Gold Hill Hotel!:\nhttps://www.facebook.com/hutch4nevada/videos/2216542628622232/ \nConsider hosting your Christmas or Holiday party at the world famous Gold Hill Hotel!  As frequented by Mark Twain back in the day!  \n \nOnly fine dining steakhouse on the Comstock!   Enjoy your company dinner in the Great Room in front of a roaring fire! \nFinally\, have you and your staff spend the night at our historic hotel!  No need to drive after a fun night of festivities! \nCall today to secure your date for your company Christmas Party!  775-847-0111 \nOr fill out this form and our special event coordinator will give you a call to discuss your special day:\n \n\n\n\n\n\n\n\nName:\n\n\n\nName of your company?\n\n\n\nEmail Address:\n\n\n\nRequested Date for your Christmas Party (subject to availability):\n\n\n\nNumber we can contact you at:\n\n\n\n\n\n\n\n\n \n 
URL:https://goldhillhotel.net/event/christmas-parties-at-the-gold-hill-hotel/
CATEGORIES:Event
END:VEVENT
END:VCALENDAR