BEGIN:VCALENDAR
VERSION:2.0
PRODID:-//Gold Hill Hotel &amp; Saloon - ECPv6.15.20//NONSGML v1.0//EN
CALSCALE:GREGORIAN
METHOD:PUBLISH
X-ORIGINAL-URL:https://goldhillhotel.net
X-WR-CALDESC:Events for Gold Hill Hotel &amp; Saloon
REFRESH-INTERVAL;VALUE=DURATION:PT1H
X-Robots-Tag:noindex
X-PUBLISHED-TTL:PT1H
BEGIN:VTIMEZONE
TZID:UTC
BEGIN:STANDARD
TZOFFSETFROM:+0000
TZOFFSETTO:+0000
TZNAME:UTC
DTSTART:20170101T000000
END:STANDARD
END:VTIMEZONE
BEGIN:VEVENT
DTSTART;TZID=UTC:20181225T163000
DTEND;TZID=UTC:20181225T210000
DTSTAMP:20260421T050037
CREATED:20180925T002530Z
LAST-MODIFIED:20180925T002530Z
UID:10000878-1545755400-1545771600@goldhillhotel.net
SUMMARY:Restaurant and Bar Closed for Christmas - Hotel is still open
DESCRIPTION:Please note that our restaurant and bar will be closed for Christmas.  The hotel will remain open. \nThank you for your understanding and Merry Christmas! \n\nThe Management.
URL:https://goldhillhotel.net/event/restaurant-and-bar-closed-for-christmas-hotel-is-still-open/
END:VEVENT
END:VCALENDAR