BEGIN:VCALENDAR
VERSION:2.0
PRODID:-//Gold Hill Hotel &amp; Saloon - ECPv6.15.20//NONSGML v1.0//EN
CALSCALE:GREGORIAN
METHOD:PUBLISH
X-WR-CALNAME:Gold Hill Hotel &amp; Saloon
X-ORIGINAL-URL:https://goldhillhotel.net
X-WR-CALDESC:Events for Gold Hill Hotel &amp; Saloon
REFRESH-INTERVAL;VALUE=DURATION:PT1H
X-Robots-Tag:noindex
X-PUBLISHED-TTL:PT1H
BEGIN:VTIMEZONE
TZID:UTC
BEGIN:STANDARD
TZOFFSETFROM:+0000
TZOFFSETTO:+0000
TZNAME:UTC
DTSTART:20170101T000000
END:STANDARD
END:VTIMEZONE
BEGIN:VEVENT
DTSTART;TZID=UTC:20181122T163000
DTEND;TZID=UTC:20181122T203000
DTSTAMP:20260424T020511
CREATED:20180818T004830Z
LAST-MODIFIED:20180818T004830Z
UID:10000853-1542904200-1542918600@goldhillhotel.net
SUMMARY:Restaurant and Bar - Closed for Thanksgiving - Hotel is still open
DESCRIPTION:Our restaurant and bar will be closed this evening in honor of Thanksgiving. \nWe will be celebrating with family this evening. \n** Please note the hotel is open for business this day and every day! ** \nThank you for your understanding! \n\nThe Management
URL:https://goldhillhotel.net/event/restaurant-and-bar-closed-for-thanksgiving-hotel-is-still-open/
END:VEVENT
END:VCALENDAR