BEGIN:VCALENDAR
VERSION:2.0
PRODID:-//Gold Hill Hotel &amp; Saloon - ECPv6.15.20//NONSGML v1.0//EN
CALSCALE:GREGORIAN
METHOD:PUBLISH
X-ORIGINAL-URL:https://goldhillhotel.net
X-WR-CALDESC:Events for Gold Hill Hotel &amp; Saloon
REFRESH-INTERVAL;VALUE=DURATION:PT1H
X-Robots-Tag:noindex
X-PUBLISHED-TTL:PT1H
BEGIN:VTIMEZONE
TZID:UTC
BEGIN:STANDARD
TZOFFSETFROM:+0000
TZOFFSETTO:+0000
TZNAME:UTC
DTSTART:20170101T000000
END:STANDARD
END:VTIMEZONE
BEGIN:VEVENT
DTSTART;TZID=UTC:20181110T170000
DTEND;TZID=UTC:20181110T210000
DTSTAMP:20260425T132915
CREATED:20181006T013152Z
LAST-MODIFIED:20181110T020231Z
UID:10000881-1541869200-1541883600@goldhillhotel.net
SUMMARY:Dance Party with Squeek and Lolli!  Sold Out!!
DESCRIPTION:Saturday\, November 10th from 7 to 9 p.m. \n  \n** WE ARE SOLD OUT FOR THIS EVENT!  WE HAVE SIGNED UP ALL THE PEOPLE WE CAN FIT INTO OUR GREAT ROOM ** \n  \nFeaturing Fiddle stomping Americana music – waltzes\, two-steps\, foxtrots\, & polkas!” \nBring your dancing shoes!   \nDinner from 5 to 7 p.m.  Show starts at 7 p.m. \n  \n 
URL:https://goldhillhotel.net/event/dance-party-with-squeek-and-lolli/
CATEGORIES:Saturday night concert series
END:VEVENT
END:VCALENDAR