BEGIN:VCALENDAR
VERSION:2.0
PRODID:-//Gold Hill Hotel &amp; Saloon - ECPv6.15.20//NONSGML v1.0//EN
CALSCALE:GREGORIAN
METHOD:PUBLISH
X-WR-CALNAME:Gold Hill Hotel &amp; Saloon
X-ORIGINAL-URL:https://goldhillhotel.net
X-WR-CALDESC:Events for Gold Hill Hotel &amp; Saloon
REFRESH-INTERVAL;VALUE=DURATION:PT1H
X-Robots-Tag:noindex
X-PUBLISHED-TTL:PT1H
BEGIN:VTIMEZONE
TZID:UTC
BEGIN:STANDARD
TZOFFSETFROM:+0000
TZOFFSETTO:+0000
TZNAME:UTC
DTSTART:20170101T000000
END:STANDARD
END:VTIMEZONE
BEGIN:VEVENT
DTSTART;TZID=UTC:20181101T170000
DTEND;TZID=UTC:20181101T203000
DTSTAMP:20260424T165442
CREATED:20181027T033447Z
LAST-MODIFIED:20181027T033447Z
UID:10000755-1541091600-1541104200@goldhillhotel.net
SUMMARY:Lecture series continues!  The Life & Times of George Hearst / Comstock Miner\, by Fred Holabird
DESCRIPTION:We are pleased to continue our 2018 Lecture Series with the Comstock Foundation for History and Culture! \nThursday\, November 1st lecture will be Fred Holabird on:  “The Life & Times of George Hearst / Comstock Miner”\n \nDinner starts at 5:00 p.m. and lecture starts at 7:00 p.m. \nGeorge Hearst of Comstock fame was raised in a log cabin on his family’s farm in rural Missouri. \nHe headed to California in 1850 for the gold rush. In the summer of 1859\, Hearst learned of the wonderful silver assays of the “blue stuff” on what was to become the Comstock Lode. Hearst hurried over to the Comstock where he arranged to buy a one-sixth interest in the Ophir Mine. That winter\, Hearst and his partners managed to mine 38 tons of high-grade silver ore\, packed it across the Sierra on muleback\, had it smelted in San Francisco\, and made $91\,000 profit\, or roughly $2\,500\,000 in 2016 dollars. \nOur guest lecturer \, Fred Holabird is well know Nationally as a historian and antiquities specialist. \nLecture starts at 7:00 p.m. and costs $5 per person. \nCome early and enjoy dinner before the lecture! We Serve dinner before the lecture at 5\, 5:30\, & 6 p.m. \nPlease fill out this reservation form to sign up for this exciting lecture: \n  \n\n\n\n\n\n\n\nName:\n\n\n\nEmail Address:\n\n\n\nDinner and Lecture or Lecture only?\n Dinner and Lecture\n Lecture only\n\n\nHow many in your party?\n\n\n\nIf you are coming to the dinner and Lecture\, what time would you like to dine with us?\n 5:00 p.m.\n 5:30 p.m.\n 6:00 p.m.
URL:https://goldhillhotel.net/event/lecture-series-continues-the-life-times-of-george-hearst-comstock-miner-by-fred-holabird/
CATEGORIES:Thursday Night Lecture
END:VEVENT
END:VCALENDAR